BEGIN:VCALENDAR
VERSION:2.0
PRODID:-//KB2SKP - ECPv6.15.20//NONSGML v1.0//EN
CALSCALE:GREGORIAN
METHOD:PUBLISH
X-ORIGINAL-URL:http://kb2skp.com
X-WR-CALDESC:Events for KB2SKP
REFRESH-INTERVAL;VALUE=DURATION:PT1H
X-Robots-Tag:noindex
X-PUBLISHED-TTL:PT1H
BEGIN:VTIMEZONE
TZID:America/New_York
BEGIN:DAYLIGHT
TZOFFSETFROM:-0500
TZOFFSETTO:-0400
TZNAME:EDT
DTSTART:20250309T070000
END:DAYLIGHT
BEGIN:STANDARD
TZOFFSETFROM:-0400
TZOFFSETTO:-0500
TZNAME:EST
DTSTART:20251102T060000
END:STANDARD
BEGIN:DAYLIGHT
TZOFFSETFROM:-0500
TZOFFSETTO:-0400
TZNAME:EDT
DTSTART:20260308T070000
END:DAYLIGHT
BEGIN:STANDARD
TZOFFSETFROM:-0400
TZOFFSETTO:-0500
TZNAME:EST
DTSTART:20261101T060000
END:STANDARD
BEGIN:DAYLIGHT
TZOFFSETFROM:-0500
TZOFFSETTO:-0400
TZNAME:EDT
DTSTART:20270314T070000
END:DAYLIGHT
BEGIN:STANDARD
TZOFFSETFROM:-0400
TZOFFSETTO:-0500
TZNAME:EST
DTSTART:20271107T060000
END:STANDARD
BEGIN:DAYLIGHT
TZOFFSETFROM:-0500
TZOFFSETTO:-0400
TZNAME:EDT
DTSTART:20280312T070000
END:DAYLIGHT
BEGIN:STANDARD
TZOFFSETFROM:-0400
TZOFFSETTO:-0500
TZNAME:EST
DTSTART:20281105T060000
END:STANDARD
END:VTIMEZONE
BEGIN:VEVENT
DTSTART;TZID=America/New_York:20261229T193000
DTEND;TZID=America/New_York:20261229T203000
DTSTAMP:20260419T123322
CREATED:20230227T045424Z
LAST-MODIFIED:20230227T001400Z
UID:10000984-1798572600-1798576200@kb2skp.com
SUMMARY:SMCARA Weekly Net
DESCRIPTION:
URL:http://kb2skp.com/event/smcara-weekly-net/2026-12-29
LOCATION:K3HKI – 146.640\, Lexington Park\, MD\, United States
END:VEVENT
BEGIN:VEVENT
DTSTART;TZID=America/New_York:20270105T193000
DTEND;TZID=America/New_York:20270105T203000
DTSTAMP:20260419T123322
CREATED:20230227T045424Z
LAST-MODIFIED:20230227T001400Z
UID:10000985-1799177400-1799181000@kb2skp.com
SUMMARY:SMCARA Weekly Net
DESCRIPTION:
URL:http://kb2skp.com/event/smcara-weekly-net/2027-01-05
LOCATION:K3HKI – 146.640\, Lexington Park\, MD\, United States
END:VEVENT
BEGIN:VEVENT
DTSTART;TZID=America/New_York:20270112T193000
DTEND;TZID=America/New_York:20270112T203000
DTSTAMP:20260419T123322
CREATED:20230227T045424Z
LAST-MODIFIED:20230227T001400Z
UID:10000986-1799782200-1799785800@kb2skp.com
SUMMARY:SMCARA Weekly Net
DESCRIPTION:
URL:http://kb2skp.com/event/smcara-weekly-net/2027-01-12
LOCATION:K3HKI – 146.640\, Lexington Park\, MD\, United States
END:VEVENT
BEGIN:VEVENT
DTSTART;TZID=America/New_York:20270119T193000
DTEND;TZID=America/New_York:20270119T203000
DTSTAMP:20260419T123322
CREATED:20230227T045424Z
LAST-MODIFIED:20230227T001400Z
UID:10000987-1800387000-1800390600@kb2skp.com
SUMMARY:SMCARA Weekly Net
DESCRIPTION:
URL:http://kb2skp.com/event/smcara-weekly-net/2027-01-19
LOCATION:K3HKI – 146.640\, Lexington Park\, MD\, United States
END:VEVENT
BEGIN:VEVENT
DTSTART;TZID=America/New_York:20270126T193000
DTEND;TZID=America/New_York:20270126T203000
DTSTAMP:20260419T123322
CREATED:20230227T045424Z
LAST-MODIFIED:20230227T001400Z
UID:10000988-1800991800-1800995400@kb2skp.com
SUMMARY:SMCARA Weekly Net
DESCRIPTION:
URL:http://kb2skp.com/event/smcara-weekly-net/2027-01-26
LOCATION:K3HKI – 146.640\, Lexington Park\, MD\, United States
END:VEVENT
BEGIN:VEVENT
DTSTART;TZID=America/New_York:20270202T193000
DTEND;TZID=America/New_York:20270202T203000
DTSTAMP:20260419T123322
CREATED:20230227T045424Z
LAST-MODIFIED:20230227T001400Z
UID:10000989-1801596600-1801600200@kb2skp.com
SUMMARY:SMCARA Weekly Net
DESCRIPTION:
URL:http://kb2skp.com/event/smcara-weekly-net/2027-02-02
LOCATION:K3HKI – 146.640\, Lexington Park\, MD\, United States
END:VEVENT
BEGIN:VEVENT
DTSTART;TZID=America/New_York:20270209T193000
DTEND;TZID=America/New_York:20270209T203000
DTSTAMP:20260419T123322
CREATED:20230227T045424Z
LAST-MODIFIED:20230227T001400Z
UID:10000990-1802201400-1802205000@kb2skp.com
SUMMARY:SMCARA Weekly Net
DESCRIPTION:
URL:http://kb2skp.com/event/smcara-weekly-net/2027-02-09
LOCATION:K3HKI – 146.640\, Lexington Park\, MD\, United States
END:VEVENT
BEGIN:VEVENT
DTSTART;TZID=America/New_York:20270216T193000
DTEND;TZID=America/New_York:20270216T203000
DTSTAMP:20260419T123322
CREATED:20230227T045424Z
LAST-MODIFIED:20230227T001400Z
UID:10000991-1802806200-1802809800@kb2skp.com
SUMMARY:SMCARA Weekly Net
DESCRIPTION:
URL:http://kb2skp.com/event/smcara-weekly-net/2027-02-16
LOCATION:K3HKI – 146.640\, Lexington Park\, MD\, United States
END:VEVENT
BEGIN:VEVENT
DTSTART;TZID=America/New_York:20270223T193000
DTEND;TZID=America/New_York:20270223T203000
DTSTAMP:20260419T123322
CREATED:20230227T045424Z
LAST-MODIFIED:20230227T001400Z
UID:10000992-1803411000-1803414600@kb2skp.com
SUMMARY:SMCARA Weekly Net
DESCRIPTION:
URL:http://kb2skp.com/event/smcara-weekly-net/2027-02-23
LOCATION:K3HKI – 146.640\, Lexington Park\, MD\, United States
END:VEVENT
BEGIN:VEVENT
DTSTART;TZID=America/New_York:20270302T193000
DTEND;TZID=America/New_York:20270302T203000
DTSTAMP:20260419T123322
CREATED:20230227T045424Z
LAST-MODIFIED:20230227T001400Z
UID:10000993-1804015800-1804019400@kb2skp.com
SUMMARY:SMCARA Weekly Net
DESCRIPTION:
URL:http://kb2skp.com/event/smcara-weekly-net/2027-03-02
LOCATION:K3HKI – 146.640\, Lexington Park\, MD\, United States
END:VEVENT
BEGIN:VEVENT
DTSTART;TZID=America/New_York:20270309T193000
DTEND;TZID=America/New_York:20270309T203000
DTSTAMP:20260419T123322
CREATED:20230227T045424Z
LAST-MODIFIED:20230227T001400Z
UID:10000994-1804620600-1804624200@kb2skp.com
SUMMARY:SMCARA Weekly Net
DESCRIPTION:
URL:http://kb2skp.com/event/smcara-weekly-net/2027-03-09
LOCATION:K3HKI – 146.640\, Lexington Park\, MD\, United States
END:VEVENT
BEGIN:VEVENT
DTSTART;TZID=America/New_York:20270316T193000
DTEND;TZID=America/New_York:20270316T203000
DTSTAMP:20260419T123322
CREATED:20230227T045424Z
LAST-MODIFIED:20230227T001400Z
UID:10000995-1805225400-1805229000@kb2skp.com
SUMMARY:SMCARA Weekly Net
DESCRIPTION:
URL:http://kb2skp.com/event/smcara-weekly-net/2027-03-16
LOCATION:K3HKI – 146.640\, Lexington Park\, MD\, United States
END:VEVENT
BEGIN:VEVENT
DTSTART;TZID=America/New_York:20270323T193000
DTEND;TZID=America/New_York:20270323T203000
DTSTAMP:20260419T123322
CREATED:20230227T045424Z
LAST-MODIFIED:20230227T001400Z
UID:10000996-1805830200-1805833800@kb2skp.com
SUMMARY:SMCARA Weekly Net
DESCRIPTION:
URL:http://kb2skp.com/event/smcara-weekly-net/2027-03-23
LOCATION:K3HKI – 146.640\, Lexington Park\, MD\, United States
END:VEVENT
BEGIN:VEVENT
DTSTART;TZID=America/New_York:20270330T193000
DTEND;TZID=America/New_York:20270330T203000
DTSTAMP:20260419T123322
CREATED:20230227T045424Z
LAST-MODIFIED:20230227T001400Z
UID:10000997-1806435000-1806438600@kb2skp.com
SUMMARY:SMCARA Weekly Net
DESCRIPTION:
URL:http://kb2skp.com/event/smcara-weekly-net/2027-03-30
LOCATION:K3HKI – 146.640\, Lexington Park\, MD\, United States
END:VEVENT
BEGIN:VEVENT
DTSTART;TZID=America/New_York:20270406T193000
DTEND;TZID=America/New_York:20270406T203000
DTSTAMP:20260419T123322
CREATED:20230227T045424Z
LAST-MODIFIED:20230227T001400Z
UID:10000998-1807039800-1807043400@kb2skp.com
SUMMARY:SMCARA Weekly Net
DESCRIPTION:
URL:http://kb2skp.com/event/smcara-weekly-net/2027-04-06
LOCATION:K3HKI – 146.640\, Lexington Park\, MD\, United States
END:VEVENT
BEGIN:VEVENT
DTSTART;TZID=America/New_York:20270413T193000
DTEND;TZID=America/New_York:20270413T203000
DTSTAMP:20260419T123322
CREATED:20230227T045424Z
LAST-MODIFIED:20230227T001400Z
UID:10000999-1807644600-1807648200@kb2skp.com
SUMMARY:SMCARA Weekly Net
DESCRIPTION:
URL:http://kb2skp.com/event/smcara-weekly-net/2027-04-13
LOCATION:K3HKI – 146.640\, Lexington Park\, MD\, United States
END:VEVENT
BEGIN:VEVENT
DTSTART;TZID=America/New_York:20270420T193000
DTEND;TZID=America/New_York:20270420T203000
DTSTAMP:20260419T123322
CREATED:20230227T045424Z
LAST-MODIFIED:20230227T001400Z
UID:10001000-1808249400-1808253000@kb2skp.com
SUMMARY:SMCARA Weekly Net
DESCRIPTION:
URL:http://kb2skp.com/event/smcara-weekly-net/2027-04-20
LOCATION:K3HKI – 146.640\, Lexington Park\, MD\, United States
END:VEVENT
BEGIN:VEVENT
DTSTART;TZID=America/New_York:20270427T193000
DTEND;TZID=America/New_York:20270427T203000
DTSTAMP:20260419T123322
CREATED:20230227T045424Z
LAST-MODIFIED:20230227T001400Z
UID:10001001-1808854200-1808857800@kb2skp.com
SUMMARY:SMCARA Weekly Net
DESCRIPTION:
URL:http://kb2skp.com/event/smcara-weekly-net/2027-04-27
LOCATION:K3HKI – 146.640\, Lexington Park\, MD\, United States
END:VEVENT
BEGIN:VEVENT
DTSTART;TZID=America/New_York:20270504T193000
DTEND;TZID=America/New_York:20270504T203000
DTSTAMP:20260419T123322
CREATED:20230227T045424Z
LAST-MODIFIED:20230227T001400Z
UID:10001002-1809459000-1809462600@kb2skp.com
SUMMARY:SMCARA Weekly Net
DESCRIPTION:
URL:http://kb2skp.com/event/smcara-weekly-net/2027-05-04
LOCATION:K3HKI – 146.640\, Lexington Park\, MD\, United States
END:VEVENT
BEGIN:VEVENT
DTSTART;TZID=America/New_York:20270511T193000
DTEND;TZID=America/New_York:20270511T203000
DTSTAMP:20260419T123322
CREATED:20230227T045424Z
LAST-MODIFIED:20230227T001400Z
UID:10001003-1810063800-1810067400@kb2skp.com
SUMMARY:SMCARA Weekly Net
DESCRIPTION:
URL:http://kb2skp.com/event/smcara-weekly-net/2027-05-11
LOCATION:K3HKI – 146.640\, Lexington Park\, MD\, United States
END:VEVENT
BEGIN:VEVENT
DTSTART;TZID=America/New_York:20270518T193000
DTEND;TZID=America/New_York:20270518T203000
DTSTAMP:20260419T123322
CREATED:20230227T045424Z
LAST-MODIFIED:20230227T001400Z
UID:10001004-1810668600-1810672200@kb2skp.com
SUMMARY:SMCARA Weekly Net
DESCRIPTION:
URL:http://kb2skp.com/event/smcara-weekly-net/2027-05-18
LOCATION:K3HKI – 146.640\, Lexington Park\, MD\, United States
END:VEVENT
BEGIN:VEVENT
DTSTART;TZID=America/New_York:20270525T193000
DTEND;TZID=America/New_York:20270525T203000
DTSTAMP:20260419T123322
CREATED:20230227T045424Z
LAST-MODIFIED:20230227T001400Z
UID:10001005-1811273400-1811277000@kb2skp.com
SUMMARY:SMCARA Weekly Net
DESCRIPTION:
URL:http://kb2skp.com/event/smcara-weekly-net/2027-05-25
LOCATION:K3HKI – 146.640\, Lexington Park\, MD\, United States
END:VEVENT
BEGIN:VEVENT
DTSTART;TZID=America/New_York:20270601T193000
DTEND;TZID=America/New_York:20270601T203000
DTSTAMP:20260419T123322
CREATED:20230227T045424Z
LAST-MODIFIED:20230227T001400Z
UID:10001006-1811878200-1811881800@kb2skp.com
SUMMARY:SMCARA Weekly Net
DESCRIPTION:
URL:http://kb2skp.com/event/smcara-weekly-net/2027-06-01
LOCATION:K3HKI – 146.640\, Lexington Park\, MD\, United States
END:VEVENT
BEGIN:VEVENT
DTSTART;TZID=America/New_York:20270608T193000
DTEND;TZID=America/New_York:20270608T203000
DTSTAMP:20260419T123322
CREATED:20230227T045424Z
LAST-MODIFIED:20230227T001400Z
UID:10001007-1812483000-1812486600@kb2skp.com
SUMMARY:SMCARA Weekly Net
DESCRIPTION:
URL:http://kb2skp.com/event/smcara-weekly-net/2027-06-08
LOCATION:K3HKI – 146.640\, Lexington Park\, MD\, United States
END:VEVENT
BEGIN:VEVENT
DTSTART;TZID=America/New_York:20270615T193000
DTEND;TZID=America/New_York:20270615T203000
DTSTAMP:20260419T123322
CREATED:20230227T045424Z
LAST-MODIFIED:20230227T001400Z
UID:10001008-1813087800-1813091400@kb2skp.com
SUMMARY:SMCARA Weekly Net
DESCRIPTION:
URL:http://kb2skp.com/event/smcara-weekly-net/2027-06-15
LOCATION:K3HKI – 146.640\, Lexington Park\, MD\, United States
END:VEVENT
BEGIN:VEVENT
DTSTART;TZID=America/New_York:20270622T193000
DTEND;TZID=America/New_York:20270622T203000
DTSTAMP:20260419T123322
CREATED:20230227T045424Z
LAST-MODIFIED:20230227T001400Z
UID:10001009-1813692600-1813696200@kb2skp.com
SUMMARY:SMCARA Weekly Net
DESCRIPTION:
URL:http://kb2skp.com/event/smcara-weekly-net/2027-06-22
LOCATION:K3HKI – 146.640\, Lexington Park\, MD\, United States
END:VEVENT
BEGIN:VEVENT
DTSTART;TZID=America/New_York:20270629T193000
DTEND;TZID=America/New_York:20270629T203000
DTSTAMP:20260419T123322
CREATED:20230227T045424Z
LAST-MODIFIED:20230227T001400Z
UID:10001010-1814297400-1814301000@kb2skp.com
SUMMARY:SMCARA Weekly Net
DESCRIPTION:
URL:http://kb2skp.com/event/smcara-weekly-net/2027-06-29
LOCATION:K3HKI – 146.640\, Lexington Park\, MD\, United States
END:VEVENT
BEGIN:VEVENT
DTSTART;TZID=America/New_York:20270706T193000
DTEND;TZID=America/New_York:20270706T203000
DTSTAMP:20260419T123322
CREATED:20230227T045424Z
LAST-MODIFIED:20230227T001400Z
UID:10001011-1814902200-1814905800@kb2skp.com
SUMMARY:SMCARA Weekly Net
DESCRIPTION:
URL:http://kb2skp.com/event/smcara-weekly-net/2027-07-06
LOCATION:K3HKI – 146.640\, Lexington Park\, MD\, United States
END:VEVENT
BEGIN:VEVENT
DTSTART;TZID=America/New_York:20270713T193000
DTEND;TZID=America/New_York:20270713T203000
DTSTAMP:20260419T123322
CREATED:20230227T045424Z
LAST-MODIFIED:20230227T001400Z
UID:10001012-1815507000-1815510600@kb2skp.com
SUMMARY:SMCARA Weekly Net
DESCRIPTION:
URL:http://kb2skp.com/event/smcara-weekly-net/2027-07-13
LOCATION:K3HKI – 146.640\, Lexington Park\, MD\, United States
END:VEVENT
BEGIN:VEVENT
DTSTART;TZID=America/New_York:20270720T193000
DTEND;TZID=America/New_York:20270720T203000
DTSTAMP:20260419T123322
CREATED:20230227T045424Z
LAST-MODIFIED:20230227T001400Z
UID:10001013-1816111800-1816115400@kb2skp.com
SUMMARY:SMCARA Weekly Net
DESCRIPTION:
URL:http://kb2skp.com/event/smcara-weekly-net/2027-07-20
LOCATION:K3HKI – 146.640\, Lexington Park\, MD\, United States
END:VEVENT
END:VCALENDAR