BEGIN:VCALENDAR
VERSION:2.0
PRODID:-//KB2SKP - ECPv6.15.20//NONSGML v1.0//EN
CALSCALE:GREGORIAN
METHOD:PUBLISH
X-ORIGINAL-URL:http://kb2skp.com
X-WR-CALDESC:Events for KB2SKP
REFRESH-INTERVAL;VALUE=DURATION:PT1H
X-Robots-Tag:noindex
X-PUBLISHED-TTL:PT1H
BEGIN:VTIMEZONE
TZID:America/New_York
BEGIN:DAYLIGHT
TZOFFSETFROM:-0500
TZOFFSETTO:-0400
TZNAME:EDT
DTSTART:20250309T070000
END:DAYLIGHT
BEGIN:STANDARD
TZOFFSETFROM:-0400
TZOFFSETTO:-0500
TZNAME:EST
DTSTART:20251102T060000
END:STANDARD
BEGIN:DAYLIGHT
TZOFFSETFROM:-0500
TZOFFSETTO:-0400
TZNAME:EDT
DTSTART:20260308T070000
END:DAYLIGHT
BEGIN:STANDARD
TZOFFSETFROM:-0400
TZOFFSETTO:-0500
TZNAME:EST
DTSTART:20261101T060000
END:STANDARD
BEGIN:DAYLIGHT
TZOFFSETFROM:-0500
TZOFFSETTO:-0400
TZNAME:EDT
DTSTART:20270314T070000
END:DAYLIGHT
BEGIN:STANDARD
TZOFFSETFROM:-0400
TZOFFSETTO:-0500
TZNAME:EST
DTSTART:20271107T060000
END:STANDARD
BEGIN:DAYLIGHT
TZOFFSETFROM:-0500
TZOFFSETTO:-0400
TZNAME:EDT
DTSTART:20280312T070000
END:DAYLIGHT
BEGIN:STANDARD
TZOFFSETFROM:-0400
TZOFFSETTO:-0500
TZNAME:EST
DTSTART:20281105T060000
END:STANDARD
END:VTIMEZONE
BEGIN:VEVENT
DTSTART;TZID=America/New_York:20261006T193000
DTEND;TZID=America/New_York:20261006T203000
DTSTAMP:20260419T140645
CREATED:20230227T045424Z
LAST-MODIFIED:20230227T001400Z
UID:10000972-1791315000-1791318600@kb2skp.com
SUMMARY:SMCARA Weekly Net
DESCRIPTION:
URL:http://kb2skp.com/event/smcara-weekly-net/2026-10-06
LOCATION:K3HKI – 146.640\, Lexington Park\, MD\, United States
END:VEVENT
BEGIN:VEVENT
DTSTART;TZID=America/New_York:20261007T193000
DTEND;TZID=America/New_York:20261007T203000
DTSTAMP:20260419T140645
CREATED:20230227T000922Z
LAST-MODIFIED:20230227T000922Z
UID:10000711-1791401400-1791405000@kb2skp.com
SUMMARY:Grant's Elmer Net
DESCRIPTION:
URL:http://kb2skp.com/event/grants-elmer-net/2026-10-07
LOCATION:MD
END:VEVENT
BEGIN:VEVENT
DTSTART;TZID=America/New_York:20261013T193000
DTEND;TZID=America/New_York:20261013T203000
DTSTAMP:20260419T140645
CREATED:20230227T045424Z
LAST-MODIFIED:20230227T001400Z
UID:10000973-1791919800-1791923400@kb2skp.com
SUMMARY:SMCARA Weekly Net
DESCRIPTION:
URL:http://kb2skp.com/event/smcara-weekly-net/2026-10-13
LOCATION:K3HKI – 146.640\, Lexington Park\, MD\, United States
END:VEVENT
BEGIN:VEVENT
DTSTART;TZID=America/New_York:20261014T193000
DTEND;TZID=America/New_York:20261014T203000
DTSTAMP:20260419T140645
CREATED:20230227T000922Z
LAST-MODIFIED:20230227T000922Z
UID:10000712-1792006200-1792009800@kb2skp.com
SUMMARY:Grant's Elmer Net
DESCRIPTION:
URL:http://kb2skp.com/event/grants-elmer-net/2026-10-14
LOCATION:MD
END:VEVENT
BEGIN:VEVENT
DTSTART;TZID=America/New_York:20261020T193000
DTEND;TZID=America/New_York:20261020T203000
DTSTAMP:20260419T140645
CREATED:20230227T045424Z
LAST-MODIFIED:20230227T001400Z
UID:10000974-1792524600-1792528200@kb2skp.com
SUMMARY:SMCARA Weekly Net
DESCRIPTION:
URL:http://kb2skp.com/event/smcara-weekly-net/2026-10-20
LOCATION:K3HKI – 146.640\, Lexington Park\, MD\, United States
END:VEVENT
BEGIN:VEVENT
DTSTART;TZID=America/New_York:20261021T193000
DTEND;TZID=America/New_York:20261021T203000
DTSTAMP:20260419T140645
CREATED:20230227T000922Z
LAST-MODIFIED:20230227T000922Z
UID:10000713-1792611000-1792614600@kb2skp.com
SUMMARY:Grant's Elmer Net
DESCRIPTION:
URL:http://kb2skp.com/event/grants-elmer-net/2026-10-21
LOCATION:MD
END:VEVENT
BEGIN:VEVENT
DTSTART;TZID=America/New_York:20261027T193000
DTEND;TZID=America/New_York:20261027T203000
DTSTAMP:20260419T140645
CREATED:20230227T045424Z
LAST-MODIFIED:20230227T001400Z
UID:10000975-1793129400-1793133000@kb2skp.com
SUMMARY:SMCARA Weekly Net
DESCRIPTION:
URL:http://kb2skp.com/event/smcara-weekly-net/2026-10-27
LOCATION:K3HKI – 146.640\, Lexington Park\, MD\, United States
END:VEVENT
BEGIN:VEVENT
DTSTART;TZID=America/New_York:20261028T193000
DTEND;TZID=America/New_York:20261028T203000
DTSTAMP:20260419T140645
CREATED:20230227T000922Z
LAST-MODIFIED:20230227T000922Z
UID:10000714-1793215800-1793219400@kb2skp.com
SUMMARY:Grant's Elmer Net
DESCRIPTION:
URL:http://kb2skp.com/event/grants-elmer-net/2026-10-28
LOCATION:MD
END:VEVENT
BEGIN:VEVENT
DTSTART;TZID=America/New_York:20261103T193000
DTEND;TZID=America/New_York:20261103T203000
DTSTAMP:20260419T140645
CREATED:20230227T045424Z
LAST-MODIFIED:20230227T001400Z
UID:10000976-1793734200-1793737800@kb2skp.com
SUMMARY:SMCARA Weekly Net
DESCRIPTION:
URL:http://kb2skp.com/event/smcara-weekly-net/2026-11-03
LOCATION:K3HKI – 146.640\, Lexington Park\, MD\, United States
END:VEVENT
BEGIN:VEVENT
DTSTART;TZID=America/New_York:20261104T193000
DTEND;TZID=America/New_York:20261104T203000
DTSTAMP:20260419T140645
CREATED:20230227T000922Z
LAST-MODIFIED:20230227T000922Z
UID:10000715-1793820600-1793824200@kb2skp.com
SUMMARY:Grant's Elmer Net
DESCRIPTION:
URL:http://kb2skp.com/event/grants-elmer-net/2026-11-04
LOCATION:MD
END:VEVENT
BEGIN:VEVENT
DTSTART;TZID=America/New_York:20261110T193000
DTEND;TZID=America/New_York:20261110T203000
DTSTAMP:20260419T140645
CREATED:20230227T045424Z
LAST-MODIFIED:20230227T001400Z
UID:10000977-1794339000-1794342600@kb2skp.com
SUMMARY:SMCARA Weekly Net
DESCRIPTION:
URL:http://kb2skp.com/event/smcara-weekly-net/2026-11-10
LOCATION:K3HKI – 146.640\, Lexington Park\, MD\, United States
END:VEVENT
BEGIN:VEVENT
DTSTART;TZID=America/New_York:20261111T193000
DTEND;TZID=America/New_York:20261111T203000
DTSTAMP:20260419T140645
CREATED:20230227T000922Z
LAST-MODIFIED:20230227T000922Z
UID:10000716-1794425400-1794429000@kb2skp.com
SUMMARY:Grant's Elmer Net
DESCRIPTION:
URL:http://kb2skp.com/event/grants-elmer-net/2026-11-11
LOCATION:MD
END:VEVENT
BEGIN:VEVENT
DTSTART;TZID=America/New_York:20261117T193000
DTEND;TZID=America/New_York:20261117T203000
DTSTAMP:20260419T140645
CREATED:20230227T045424Z
LAST-MODIFIED:20230227T001400Z
UID:10000978-1794943800-1794947400@kb2skp.com
SUMMARY:SMCARA Weekly Net
DESCRIPTION:
URL:http://kb2skp.com/event/smcara-weekly-net/2026-11-17
LOCATION:K3HKI – 146.640\, Lexington Park\, MD\, United States
END:VEVENT
BEGIN:VEVENT
DTSTART;TZID=America/New_York:20261118T193000
DTEND;TZID=America/New_York:20261118T203000
DTSTAMP:20260419T140645
CREATED:20230227T000922Z
LAST-MODIFIED:20230227T000922Z
UID:10000717-1795030200-1795033800@kb2skp.com
SUMMARY:Grant's Elmer Net
DESCRIPTION:
URL:http://kb2skp.com/event/grants-elmer-net/2026-11-18
LOCATION:MD
END:VEVENT
BEGIN:VEVENT
DTSTART;TZID=America/New_York:20261124T193000
DTEND;TZID=America/New_York:20261124T203000
DTSTAMP:20260419T140645
CREATED:20230227T045424Z
LAST-MODIFIED:20230227T001400Z
UID:10000979-1795548600-1795552200@kb2skp.com
SUMMARY:SMCARA Weekly Net
DESCRIPTION:
URL:http://kb2skp.com/event/smcara-weekly-net/2026-11-24
LOCATION:K3HKI – 146.640\, Lexington Park\, MD\, United States
END:VEVENT
BEGIN:VEVENT
DTSTART;TZID=America/New_York:20261125T193000
DTEND;TZID=America/New_York:20261125T203000
DTSTAMP:20260419T140645
CREATED:20230227T000922Z
LAST-MODIFIED:20230227T000922Z
UID:10000718-1795635000-1795638600@kb2skp.com
SUMMARY:Grant's Elmer Net
DESCRIPTION:
URL:http://kb2skp.com/event/grants-elmer-net/2026-11-25
LOCATION:MD
END:VEVENT
BEGIN:VEVENT
DTSTART;TZID=America/New_York:20261201T193000
DTEND;TZID=America/New_York:20261201T203000
DTSTAMP:20260419T140645
CREATED:20230227T045424Z
LAST-MODIFIED:20230227T001400Z
UID:10000980-1796153400-1796157000@kb2skp.com
SUMMARY:SMCARA Weekly Net
DESCRIPTION:
URL:http://kb2skp.com/event/smcara-weekly-net/2026-12-01
LOCATION:K3HKI – 146.640\, Lexington Park\, MD\, United States
END:VEVENT
BEGIN:VEVENT
DTSTART;TZID=America/New_York:20261202T193000
DTEND;TZID=America/New_York:20261202T203000
DTSTAMP:20260419T140645
CREATED:20230227T000922Z
LAST-MODIFIED:20230227T000922Z
UID:10000719-1796239800-1796243400@kb2skp.com
SUMMARY:Grant's Elmer Net
DESCRIPTION:
URL:http://kb2skp.com/event/grants-elmer-net/2026-12-02
LOCATION:MD
END:VEVENT
BEGIN:VEVENT
DTSTART;TZID=America/New_York:20261208T193000
DTEND;TZID=America/New_York:20261208T203000
DTSTAMP:20260419T140645
CREATED:20230227T045424Z
LAST-MODIFIED:20230227T001400Z
UID:10000981-1796758200-1796761800@kb2skp.com
SUMMARY:SMCARA Weekly Net
DESCRIPTION:
URL:http://kb2skp.com/event/smcara-weekly-net/2026-12-08
LOCATION:K3HKI – 146.640\, Lexington Park\, MD\, United States
END:VEVENT
BEGIN:VEVENT
DTSTART;TZID=America/New_York:20261209T193000
DTEND;TZID=America/New_York:20261209T203000
DTSTAMP:20260419T140645
CREATED:20230227T000922Z
LAST-MODIFIED:20230227T000922Z
UID:10000720-1796844600-1796848200@kb2skp.com
SUMMARY:Grant's Elmer Net
DESCRIPTION:
URL:http://kb2skp.com/event/grants-elmer-net/2026-12-09
LOCATION:MD
END:VEVENT
BEGIN:VEVENT
DTSTART;TZID=America/New_York:20261215T193000
DTEND;TZID=America/New_York:20261215T203000
DTSTAMP:20260419T140645
CREATED:20230227T045424Z
LAST-MODIFIED:20230227T001400Z
UID:10000982-1797363000-1797366600@kb2skp.com
SUMMARY:SMCARA Weekly Net
DESCRIPTION:
URL:http://kb2skp.com/event/smcara-weekly-net/2026-12-15
LOCATION:K3HKI – 146.640\, Lexington Park\, MD\, United States
END:VEVENT
BEGIN:VEVENT
DTSTART;TZID=America/New_York:20261216T193000
DTEND;TZID=America/New_York:20261216T203000
DTSTAMP:20260419T140645
CREATED:20230227T000922Z
LAST-MODIFIED:20230227T000922Z
UID:10000721-1797449400-1797453000@kb2skp.com
SUMMARY:Grant's Elmer Net
DESCRIPTION:
URL:http://kb2skp.com/event/grants-elmer-net/2026-12-16
LOCATION:MD
END:VEVENT
BEGIN:VEVENT
DTSTART;TZID=America/New_York:20261222T193000
DTEND;TZID=America/New_York:20261222T203000
DTSTAMP:20260419T140645
CREATED:20230227T045424Z
LAST-MODIFIED:20230227T001400Z
UID:10000983-1797967800-1797971400@kb2skp.com
SUMMARY:SMCARA Weekly Net
DESCRIPTION:
URL:http://kb2skp.com/event/smcara-weekly-net/2026-12-22
LOCATION:K3HKI – 146.640\, Lexington Park\, MD\, United States
END:VEVENT
BEGIN:VEVENT
DTSTART;TZID=America/New_York:20261223T193000
DTEND;TZID=America/New_York:20261223T203000
DTSTAMP:20260419T140645
CREATED:20230227T000922Z
LAST-MODIFIED:20230227T000922Z
UID:10000722-1798054200-1798057800@kb2skp.com
SUMMARY:Grant's Elmer Net
DESCRIPTION:
URL:http://kb2skp.com/event/grants-elmer-net/2026-12-23
LOCATION:MD
END:VEVENT
BEGIN:VEVENT
DTSTART;TZID=America/New_York:20261229T193000
DTEND;TZID=America/New_York:20261229T203000
DTSTAMP:20260419T140645
CREATED:20230227T045424Z
LAST-MODIFIED:20230227T001400Z
UID:10000984-1798572600-1798576200@kb2skp.com
SUMMARY:SMCARA Weekly Net
DESCRIPTION:
URL:http://kb2skp.com/event/smcara-weekly-net/2026-12-29
LOCATION:K3HKI – 146.640\, Lexington Park\, MD\, United States
END:VEVENT
BEGIN:VEVENT
DTSTART;TZID=America/New_York:20261230T193000
DTEND;TZID=America/New_York:20261230T203000
DTSTAMP:20260419T140645
CREATED:20230227T000922Z
LAST-MODIFIED:20230227T000922Z
UID:10000723-1798659000-1798662600@kb2skp.com
SUMMARY:Grant's Elmer Net
DESCRIPTION:
URL:http://kb2skp.com/event/grants-elmer-net/2026-12-30
LOCATION:MD
END:VEVENT
BEGIN:VEVENT
DTSTART;TZID=America/New_York:20270105T193000
DTEND;TZID=America/New_York:20270105T203000
DTSTAMP:20260419T140645
CREATED:20230227T045424Z
LAST-MODIFIED:20230227T001400Z
UID:10000985-1799177400-1799181000@kb2skp.com
SUMMARY:SMCARA Weekly Net
DESCRIPTION:
URL:http://kb2skp.com/event/smcara-weekly-net/2027-01-05
LOCATION:K3HKI – 146.640\, Lexington Park\, MD\, United States
END:VEVENT
BEGIN:VEVENT
DTSTART;TZID=America/New_York:20270106T193000
DTEND;TZID=America/New_York:20270106T203000
DTSTAMP:20260419T140645
CREATED:20230227T000922Z
LAST-MODIFIED:20230227T000922Z
UID:10000724-1799263800-1799267400@kb2skp.com
SUMMARY:Grant's Elmer Net
DESCRIPTION:
URL:http://kb2skp.com/event/grants-elmer-net/2027-01-06
LOCATION:MD
END:VEVENT
BEGIN:VEVENT
DTSTART;TZID=America/New_York:20270112T193000
DTEND;TZID=America/New_York:20270112T203000
DTSTAMP:20260419T140645
CREATED:20230227T045424Z
LAST-MODIFIED:20230227T001400Z
UID:10000986-1799782200-1799785800@kb2skp.com
SUMMARY:SMCARA Weekly Net
DESCRIPTION:
URL:http://kb2skp.com/event/smcara-weekly-net/2027-01-12
LOCATION:K3HKI – 146.640\, Lexington Park\, MD\, United States
END:VEVENT
BEGIN:VEVENT
DTSTART;TZID=America/New_York:20270113T193000
DTEND;TZID=America/New_York:20270113T203000
DTSTAMP:20260419T140645
CREATED:20230227T000922Z
LAST-MODIFIED:20230227T000922Z
UID:10000725-1799868600-1799872200@kb2skp.com
SUMMARY:Grant's Elmer Net
DESCRIPTION:
URL:http://kb2skp.com/event/grants-elmer-net/2027-01-13
LOCATION:MD
END:VEVENT
END:VCALENDAR