BEGIN:VCALENDAR
VERSION:2.0
PRODID:-//KB2SKP - ECPv6.15.20//NONSGML v1.0//EN
CALSCALE:GREGORIAN
METHOD:PUBLISH
X-WR-CALNAME:KB2SKP
X-ORIGINAL-URL:http://kb2skp.com
X-WR-CALDESC:Events for KB2SKP
REFRESH-INTERVAL;VALUE=DURATION:PT1H
X-Robots-Tag:noindex
X-PUBLISHED-TTL:PT1H
BEGIN:VTIMEZONE
TZID:America/New_York
BEGIN:DAYLIGHT
TZOFFSETFROM:-0500
TZOFFSETTO:-0400
TZNAME:EDT
DTSTART:20220313T070000
END:DAYLIGHT
BEGIN:STANDARD
TZOFFSETFROM:-0400
TZOFFSETTO:-0500
TZNAME:EST
DTSTART:20221106T060000
END:STANDARD
BEGIN:DAYLIGHT
TZOFFSETFROM:-0500
TZOFFSETTO:-0400
TZNAME:EDT
DTSTART:20230312T070000
END:DAYLIGHT
BEGIN:STANDARD
TZOFFSETFROM:-0400
TZOFFSETTO:-0500
TZNAME:EST
DTSTART:20231105T060000
END:STANDARD
BEGIN:DAYLIGHT
TZOFFSETFROM:-0500
TZOFFSETTO:-0400
TZNAME:EDT
DTSTART:20240310T070000
END:DAYLIGHT
BEGIN:STANDARD
TZOFFSETFROM:-0400
TZOFFSETTO:-0500
TZNAME:EST
DTSTART:20241103T060000
END:STANDARD
END:VTIMEZONE
BEGIN:VEVENT
DTSTART;TZID=America/New_York:20230308T193000
DTEND;TZID=America/New_York:20230308T203000
DTSTAMP:20260423T154306
CREATED:20230227T000922Z
LAST-MODIFIED:20230227T000922Z
UID:10000524-1678303800-1678307400@kb2skp.com
SUMMARY:Grant's Elmer Net
DESCRIPTION:
URL:http://kb2skp.com/event/grants-elmer-net/2023-03-08
END:VEVENT
BEGIN:VEVENT
DTSTART;TZID=America/New_York:20230307T193000
DTEND;TZID=America/New_York:20230307T203000
DTSTAMP:20260423T154306
CREATED:20230227T045424Z
LAST-MODIFIED:20230227T001400Z
UID:10000785-1678217400-1678221000@kb2skp.com
SUMMARY:SMCARA Weekly Net
DESCRIPTION:
URL:http://kb2skp.com/event/smcara-weekly-net/2023-03-07
LOCATION:K3HKI – 146.640\, Lexington Park\, MD\, United States
END:VEVENT
BEGIN:VEVENT
DTSTART;TZID=America/New_York:20230301T193000
DTEND;TZID=America/New_York:20230301T203000
DTSTAMP:20260423T154306
CREATED:20230227T000922Z
LAST-MODIFIED:20230227T000922Z
UID:10000523-1677699000-1677702600@kb2skp.com
SUMMARY:Grant's Elmer Net
DESCRIPTION:
URL:http://kb2skp.com/event/grants-elmer-net/2023-03-01
END:VEVENT
BEGIN:VEVENT
DTSTART;TZID=America/New_York:20230228T193000
DTEND;TZID=America/New_York:20230228T203000
DTSTAMP:20260423T154306
CREATED:20230227T045424Z
LAST-MODIFIED:20230227T001400Z
UID:10000784-1677612600-1677616200@kb2skp.com
SUMMARY:SMCARA Weekly Net
DESCRIPTION:
URL:http://kb2skp.com/event/smcara-weekly-net/2023-02-28
LOCATION:K3HKI – 146.640\, Lexington Park\, MD\, United States
END:VEVENT
END:VCALENDAR