BEGIN:VCALENDAR
VERSION:2.0
PRODID:-//KB2SKP - ECPv6.15.20//NONSGML v1.0//EN
CALSCALE:GREGORIAN
METHOD:PUBLISH
X-WR-CALNAME:KB2SKP
X-ORIGINAL-URL:http://kb2skp.com
X-WR-CALDESC:Events for KB2SKP
REFRESH-INTERVAL;VALUE=DURATION:PT1H
X-Robots-Tag:noindex
X-PUBLISHED-TTL:PT1H
BEGIN:VTIMEZONE
TZID:America/New_York
BEGIN:DAYLIGHT
TZOFFSETFROM:-0500
TZOFFSETTO:-0400
TZNAME:EDT
DTSTART:20220313T070000
END:DAYLIGHT
BEGIN:STANDARD
TZOFFSETFROM:-0400
TZOFFSETTO:-0500
TZNAME:EST
DTSTART:20221106T060000
END:STANDARD
BEGIN:DAYLIGHT
TZOFFSETFROM:-0500
TZOFFSETTO:-0400
TZNAME:EDT
DTSTART:20230312T070000
END:DAYLIGHT
BEGIN:STANDARD
TZOFFSETFROM:-0400
TZOFFSETTO:-0500
TZNAME:EST
DTSTART:20231105T060000
END:STANDARD
BEGIN:DAYLIGHT
TZOFFSETFROM:-0500
TZOFFSETTO:-0400
TZNAME:EDT
DTSTART:20240310T070000
END:DAYLIGHT
BEGIN:STANDARD
TZOFFSETFROM:-0400
TZOFFSETTO:-0500
TZNAME:EST
DTSTART:20241103T060000
END:STANDARD
BEGIN:DAYLIGHT
TZOFFSETFROM:-0500
TZOFFSETTO:-0400
TZNAME:EDT
DTSTART:20250309T070000
END:DAYLIGHT
BEGIN:STANDARD
TZOFFSETFROM:-0400
TZOFFSETTO:-0500
TZNAME:EST
DTSTART:20251102T060000
END:STANDARD
END:VTIMEZONE
BEGIN:VEVENT
DTSTART;TZID=America/New_York:20240207T193000
DTEND;TZID=America/New_York:20240207T203000
DTSTAMP:20260421T000127
CREATED:20230227T000922Z
LAST-MODIFIED:20230227T000922Z
UID:10000572-1707334200-1707337800@kb2skp.com
SUMMARY:Grant's Elmer Net
DESCRIPTION:
URL:http://kb2skp.com/event/grants-elmer-net/2024-02-07
LOCATION:MD
END:VEVENT
BEGIN:VEVENT
DTSTART;TZID=America/New_York:20240206T193000
DTEND;TZID=America/New_York:20240206T203000
DTSTAMP:20260421T000127
CREATED:20230227T045424Z
LAST-MODIFIED:20230227T001400Z
UID:10000833-1707247800-1707251400@kb2skp.com
SUMMARY:SMCARA Weekly Net
DESCRIPTION:
URL:http://kb2skp.com/event/smcara-weekly-net/2024-02-06
LOCATION:K3HKI – 146.640\, Lexington Park\, MD\, United States
END:VEVENT
BEGIN:VEVENT
DTSTART;TZID=America/New_York:20240131T193000
DTEND;TZID=America/New_York:20240131T203000
DTSTAMP:20260421T000127
CREATED:20230227T000922Z
LAST-MODIFIED:20230227T000922Z
UID:10000571-1706729400-1706733000@kb2skp.com
SUMMARY:Grant's Elmer Net
DESCRIPTION:
URL:http://kb2skp.com/event/grants-elmer-net/2024-01-31
LOCATION:MD
END:VEVENT
BEGIN:VEVENT
DTSTART;TZID=America/New_York:20240130T193000
DTEND;TZID=America/New_York:20240130T203000
DTSTAMP:20260421T000127
CREATED:20230227T045424Z
LAST-MODIFIED:20230227T001400Z
UID:10000832-1706643000-1706646600@kb2skp.com
SUMMARY:SMCARA Weekly Net
DESCRIPTION:
URL:http://kb2skp.com/event/smcara-weekly-net/2024-01-30
LOCATION:K3HKI – 146.640\, Lexington Park\, MD\, United States
END:VEVENT
BEGIN:VEVENT
DTSTART;TZID=America/New_York:20240124T193000
DTEND;TZID=America/New_York:20240124T203000
DTSTAMP:20260421T000127
CREATED:20230227T000922Z
LAST-MODIFIED:20230227T000922Z
UID:10000570-1706124600-1706128200@kb2skp.com
SUMMARY:Grant's Elmer Net
DESCRIPTION:
URL:http://kb2skp.com/event/grants-elmer-net/2024-01-24
LOCATION:MD
END:VEVENT
BEGIN:VEVENT
DTSTART;TZID=America/New_York:20240123T193000
DTEND;TZID=America/New_York:20240123T203000
DTSTAMP:20260421T000127
CREATED:20230227T045424Z
LAST-MODIFIED:20230227T001400Z
UID:10000831-1706038200-1706041800@kb2skp.com
SUMMARY:SMCARA Weekly Net
DESCRIPTION:
URL:http://kb2skp.com/event/smcara-weekly-net/2024-01-23
LOCATION:K3HKI – 146.640\, Lexington Park\, MD\, United States
END:VEVENT
BEGIN:VEVENT
DTSTART;TZID=America/New_York:20240117T193000
DTEND;TZID=America/New_York:20240117T203000
DTSTAMP:20260421T000127
CREATED:20230227T000922Z
LAST-MODIFIED:20230227T000922Z
UID:10000569-1705519800-1705523400@kb2skp.com
SUMMARY:Grant's Elmer Net
DESCRIPTION:
URL:http://kb2skp.com/event/grants-elmer-net/2024-01-17
LOCATION:MD
END:VEVENT
BEGIN:VEVENT
DTSTART;TZID=America/New_York:20240116T193000
DTEND;TZID=America/New_York:20240116T203000
DTSTAMP:20260421T000127
CREATED:20230227T045424Z
LAST-MODIFIED:20230227T001400Z
UID:10000830-1705433400-1705437000@kb2skp.com
SUMMARY:SMCARA Weekly Net
DESCRIPTION:
URL:http://kb2skp.com/event/smcara-weekly-net/2024-01-16
LOCATION:K3HKI – 146.640\, Lexington Park\, MD\, United States
END:VEVENT
BEGIN:VEVENT
DTSTART;TZID=America/New_York:20240110T193000
DTEND;TZID=America/New_York:20240110T203000
DTSTAMP:20260421T000127
CREATED:20230227T000922Z
LAST-MODIFIED:20230227T000922Z
UID:10000568-1704915000-1704918600@kb2skp.com
SUMMARY:Grant's Elmer Net
DESCRIPTION:
URL:http://kb2skp.com/event/grants-elmer-net/2024-01-10
LOCATION:MD
END:VEVENT
BEGIN:VEVENT
DTSTART;TZID=America/New_York:20240109T193000
DTEND;TZID=America/New_York:20240109T203000
DTSTAMP:20260421T000127
CREATED:20230227T045424Z
LAST-MODIFIED:20230227T001400Z
UID:10000829-1704828600-1704832200@kb2skp.com
SUMMARY:SMCARA Weekly Net
DESCRIPTION:
URL:http://kb2skp.com/event/smcara-weekly-net/2024-01-09
LOCATION:K3HKI – 146.640\, Lexington Park\, MD\, United States
END:VEVENT
BEGIN:VEVENT
DTSTART;TZID=America/New_York:20240103T193000
DTEND;TZID=America/New_York:20240103T203000
DTSTAMP:20260421T000127
CREATED:20230227T000922Z
LAST-MODIFIED:20230227T000922Z
UID:10000567-1704310200-1704313800@kb2skp.com
SUMMARY:Grant's Elmer Net
DESCRIPTION:
URL:http://kb2skp.com/event/grants-elmer-net/2024-01-03
LOCATION:MD
END:VEVENT
BEGIN:VEVENT
DTSTART;TZID=America/New_York:20240102T193000
DTEND;TZID=America/New_York:20240102T203000
DTSTAMP:20260421T000127
CREATED:20230227T045424Z
LAST-MODIFIED:20230227T001400Z
UID:10000828-1704223800-1704227400@kb2skp.com
SUMMARY:SMCARA Weekly Net
DESCRIPTION:
URL:http://kb2skp.com/event/smcara-weekly-net/2024-01-02
LOCATION:K3HKI – 146.640\, Lexington Park\, MD\, United States
END:VEVENT
BEGIN:VEVENT
DTSTART;TZID=America/New_York:20231227T193000
DTEND;TZID=America/New_York:20231227T203000
DTSTAMP:20260421T000127
CREATED:20230227T000922Z
LAST-MODIFIED:20230227T000922Z
UID:10000566-1703705400-1703709000@kb2skp.com
SUMMARY:Grant's Elmer Net
DESCRIPTION:
URL:http://kb2skp.com/event/grants-elmer-net/2023-12-27
LOCATION:MD
END:VEVENT
BEGIN:VEVENT
DTSTART;TZID=America/New_York:20231226T193000
DTEND;TZID=America/New_York:20231226T203000
DTSTAMP:20260421T000127
CREATED:20230227T045424Z
LAST-MODIFIED:20230227T001400Z
UID:10000827-1703619000-1703622600@kb2skp.com
SUMMARY:SMCARA Weekly Net
DESCRIPTION:
URL:http://kb2skp.com/event/smcara-weekly-net/2023-12-26
LOCATION:K3HKI – 146.640\, Lexington Park\, MD\, United States
END:VEVENT
BEGIN:VEVENT
DTSTART;TZID=America/New_York:20231220T193000
DTEND;TZID=America/New_York:20231220T203000
DTSTAMP:20260421T000127
CREATED:20230227T000922Z
LAST-MODIFIED:20230227T000922Z
UID:10000565-1703100600-1703104200@kb2skp.com
SUMMARY:Grant's Elmer Net
DESCRIPTION:
URL:http://kb2skp.com/event/grants-elmer-net/2023-12-20
LOCATION:MD
END:VEVENT
BEGIN:VEVENT
DTSTART;TZID=America/New_York:20231219T193000
DTEND;TZID=America/New_York:20231219T203000
DTSTAMP:20260421T000127
CREATED:20230227T045424Z
LAST-MODIFIED:20230227T001400Z
UID:10000826-1703014200-1703017800@kb2skp.com
SUMMARY:SMCARA Weekly Net
DESCRIPTION:
URL:http://kb2skp.com/event/smcara-weekly-net/2023-12-19
LOCATION:K3HKI – 146.640\, Lexington Park\, MD\, United States
END:VEVENT
BEGIN:VEVENT
DTSTART;TZID=America/New_York:20231213T193000
DTEND;TZID=America/New_York:20231213T203000
DTSTAMP:20260421T000127
CREATED:20230227T000922Z
LAST-MODIFIED:20230227T000922Z
UID:10000564-1702495800-1702499400@kb2skp.com
SUMMARY:Grant's Elmer Net
DESCRIPTION:
URL:http://kb2skp.com/event/grants-elmer-net/2023-12-13
LOCATION:MD
END:VEVENT
BEGIN:VEVENT
DTSTART;TZID=America/New_York:20231212T193000
DTEND;TZID=America/New_York:20231212T203000
DTSTAMP:20260421T000127
CREATED:20230227T045424Z
LAST-MODIFIED:20230227T001400Z
UID:10000825-1702409400-1702413000@kb2skp.com
SUMMARY:SMCARA Weekly Net
DESCRIPTION:
URL:http://kb2skp.com/event/smcara-weekly-net/2023-12-12
LOCATION:K3HKI – 146.640\, Lexington Park\, MD\, United States
END:VEVENT
BEGIN:VEVENT
DTSTART;TZID=America/New_York:20231206T193000
DTEND;TZID=America/New_York:20231206T203000
DTSTAMP:20260421T000127
CREATED:20230227T000922Z
LAST-MODIFIED:20230227T000922Z
UID:10000563-1701891000-1701894600@kb2skp.com
SUMMARY:Grant's Elmer Net
DESCRIPTION:
URL:http://kb2skp.com/event/grants-elmer-net/2023-12-06
LOCATION:MD
END:VEVENT
BEGIN:VEVENT
DTSTART;TZID=America/New_York:20231205T193000
DTEND;TZID=America/New_York:20231205T203000
DTSTAMP:20260421T000127
CREATED:20230227T045424Z
LAST-MODIFIED:20230227T001400Z
UID:10000824-1701804600-1701808200@kb2skp.com
SUMMARY:SMCARA Weekly Net
DESCRIPTION:
URL:http://kb2skp.com/event/smcara-weekly-net/2023-12-05
LOCATION:K3HKI – 146.640\, Lexington Park\, MD\, United States
END:VEVENT
BEGIN:VEVENT
DTSTART;TZID=America/New_York:20231129T193000
DTEND;TZID=America/New_York:20231129T203000
DTSTAMP:20260421T000127
CREATED:20230227T000922Z
LAST-MODIFIED:20230227T000922Z
UID:10000562-1701286200-1701289800@kb2skp.com
SUMMARY:Grant's Elmer Net
DESCRIPTION:
URL:http://kb2skp.com/event/grants-elmer-net/2023-11-29
LOCATION:MD
END:VEVENT
BEGIN:VEVENT
DTSTART;TZID=America/New_York:20231128T193000
DTEND;TZID=America/New_York:20231128T203000
DTSTAMP:20260421T000127
CREATED:20230227T045424Z
LAST-MODIFIED:20230227T001400Z
UID:10000823-1701199800-1701203400@kb2skp.com
SUMMARY:SMCARA Weekly Net
DESCRIPTION:
URL:http://kb2skp.com/event/smcara-weekly-net/2023-11-28
LOCATION:K3HKI – 146.640\, Lexington Park\, MD\, United States
END:VEVENT
BEGIN:VEVENT
DTSTART;TZID=America/New_York:20231122T193000
DTEND;TZID=America/New_York:20231122T203000
DTSTAMP:20260421T000127
CREATED:20230227T000922Z
LAST-MODIFIED:20230227T000922Z
UID:10000561-1700681400-1700685000@kb2skp.com
SUMMARY:Grant's Elmer Net
DESCRIPTION:
URL:http://kb2skp.com/event/grants-elmer-net/2023-11-22
LOCATION:MD
END:VEVENT
BEGIN:VEVENT
DTSTART;TZID=America/New_York:20231121T193000
DTEND;TZID=America/New_York:20231121T203000
DTSTAMP:20260421T000127
CREATED:20230227T045424Z
LAST-MODIFIED:20230227T001400Z
UID:10000822-1700595000-1700598600@kb2skp.com
SUMMARY:SMCARA Weekly Net
DESCRIPTION:
URL:http://kb2skp.com/event/smcara-weekly-net/2023-11-21
LOCATION:K3HKI – 146.640\, Lexington Park\, MD\, United States
END:VEVENT
BEGIN:VEVENT
DTSTART;TZID=America/New_York:20231115T193000
DTEND;TZID=America/New_York:20231115T203000
DTSTAMP:20260421T000127
CREATED:20230227T000922Z
LAST-MODIFIED:20230227T000922Z
UID:10000560-1700076600-1700080200@kb2skp.com
SUMMARY:Grant's Elmer Net
DESCRIPTION:
URL:http://kb2skp.com/event/grants-elmer-net/2023-11-15
LOCATION:MD
END:VEVENT
BEGIN:VEVENT
DTSTART;TZID=America/New_York:20231114T193000
DTEND;TZID=America/New_York:20231114T203000
DTSTAMP:20260421T000127
CREATED:20230227T045424Z
LAST-MODIFIED:20230227T001400Z
UID:10000821-1699990200-1699993800@kb2skp.com
SUMMARY:SMCARA Weekly Net
DESCRIPTION:
URL:http://kb2skp.com/event/smcara-weekly-net/2023-11-14
LOCATION:K3HKI – 146.640\, Lexington Park\, MD\, United States
END:VEVENT
BEGIN:VEVENT
DTSTART;TZID=America/New_York:20231108T193000
DTEND;TZID=America/New_York:20231108T203000
DTSTAMP:20260421T000127
CREATED:20230227T000922Z
LAST-MODIFIED:20230227T000922Z
UID:10000559-1699471800-1699475400@kb2skp.com
SUMMARY:Grant's Elmer Net
DESCRIPTION:
URL:http://kb2skp.com/event/grants-elmer-net/2023-11-08
LOCATION:MD
END:VEVENT
BEGIN:VEVENT
DTSTART;TZID=America/New_York:20231107T193000
DTEND;TZID=America/New_York:20231107T203000
DTSTAMP:20260421T000127
CREATED:20230227T045424Z
LAST-MODIFIED:20230227T001400Z
UID:10000820-1699385400-1699389000@kb2skp.com
SUMMARY:SMCARA Weekly Net
DESCRIPTION:
URL:http://kb2skp.com/event/smcara-weekly-net/2023-11-07
LOCATION:K3HKI – 146.640\, Lexington Park\, MD\, United States
END:VEVENT
BEGIN:VEVENT
DTSTART;TZID=America/New_York:20231101T193000
DTEND;TZID=America/New_York:20231101T203000
DTSTAMP:20260421T000127
CREATED:20230227T000922Z
LAST-MODIFIED:20230227T000922Z
UID:10000558-1698867000-1698870600@kb2skp.com
SUMMARY:Grant's Elmer Net
DESCRIPTION:
URL:http://kb2skp.com/event/grants-elmer-net/2023-11-01
LOCATION:MD
END:VEVENT
BEGIN:VEVENT
DTSTART;TZID=America/New_York:20231031T193000
DTEND;TZID=America/New_York:20231031T203000
DTSTAMP:20260421T000127
CREATED:20230227T045424Z
LAST-MODIFIED:20230227T001400Z
UID:10000819-1698780600-1698784200@kb2skp.com
SUMMARY:SMCARA Weekly Net
DESCRIPTION:
URL:http://kb2skp.com/event/smcara-weekly-net/2023-10-31
LOCATION:K3HKI – 146.640\, Lexington Park\, MD\, United States
END:VEVENT
END:VCALENDAR