BEGIN:VCALENDAR
VERSION:2.0
PRODID:-//KB2SKP - ECPv6.15.20//NONSGML v1.0//EN
CALSCALE:GREGORIAN
METHOD:PUBLISH
X-WR-CALNAME:KB2SKP
X-ORIGINAL-URL:http://kb2skp.com
X-WR-CALDESC:Events for KB2SKP
REFRESH-INTERVAL;VALUE=DURATION:PT1H
X-Robots-Tag:noindex
X-PUBLISHED-TTL:PT1H
BEGIN:VTIMEZONE
TZID:America/New_York
BEGIN:DAYLIGHT
TZOFFSETFROM:-0500
TZOFFSETTO:-0400
TZNAME:EDT
DTSTART:20240310T070000
END:DAYLIGHT
BEGIN:STANDARD
TZOFFSETFROM:-0400
TZOFFSETTO:-0500
TZNAME:EST
DTSTART:20241103T060000
END:STANDARD
BEGIN:DAYLIGHT
TZOFFSETFROM:-0500
TZOFFSETTO:-0400
TZNAME:EDT
DTSTART:20250309T070000
END:DAYLIGHT
BEGIN:STANDARD
TZOFFSETFROM:-0400
TZOFFSETTO:-0500
TZNAME:EST
DTSTART:20251102T060000
END:STANDARD
BEGIN:DAYLIGHT
TZOFFSETFROM:-0500
TZOFFSETTO:-0400
TZNAME:EDT
DTSTART:20260308T070000
END:DAYLIGHT
BEGIN:STANDARD
TZOFFSETFROM:-0400
TZOFFSETTO:-0500
TZNAME:EST
DTSTART:20261101T060000
END:STANDARD
BEGIN:DAYLIGHT
TZOFFSETFROM:-0500
TZOFFSETTO:-0400
TZNAME:EDT
DTSTART:20270314T070000
END:DAYLIGHT
BEGIN:STANDARD
TZOFFSETFROM:-0400
TZOFFSETTO:-0500
TZNAME:EST
DTSTART:20271107T060000
END:STANDARD
END:VTIMEZONE
BEGIN:VEVENT
DTSTART;TZID=America/New_York:20260318T193000
DTEND;TZID=America/New_York:20260318T203000
DTSTAMP:20260419T171859
CREATED:20230227T000922Z
LAST-MODIFIED:20230227T000922Z
UID:10000682-1773862200-1773865800@kb2skp.com
SUMMARY:Grant's Elmer Net
DESCRIPTION:
URL:http://kb2skp.com/event/grants-elmer-net/2026-03-18
LOCATION:MD
END:VEVENT
BEGIN:VEVENT
DTSTART;TZID=America/New_York:20260317T193000
DTEND;TZID=America/New_York:20260317T203000
DTSTAMP:20260419T171859
CREATED:20230227T045424Z
LAST-MODIFIED:20230227T001400Z
UID:10000943-1773775800-1773779400@kb2skp.com
SUMMARY:SMCARA Weekly Net
DESCRIPTION:
URL:http://kb2skp.com/event/smcara-weekly-net/2026-03-17
LOCATION:K3HKI – 146.640\, Lexington Park\, MD\, United States
END:VEVENT
BEGIN:VEVENT
DTSTART;TZID=America/New_York:20260311T193000
DTEND;TZID=America/New_York:20260311T203000
DTSTAMP:20260419T171859
CREATED:20230227T000922Z
LAST-MODIFIED:20230227T000922Z
UID:10000681-1773257400-1773261000@kb2skp.com
SUMMARY:Grant's Elmer Net
DESCRIPTION:
URL:http://kb2skp.com/event/grants-elmer-net/2026-03-11
LOCATION:MD
END:VEVENT
BEGIN:VEVENT
DTSTART;TZID=America/New_York:20260310T193000
DTEND;TZID=America/New_York:20260310T203000
DTSTAMP:20260419T171859
CREATED:20230227T045424Z
LAST-MODIFIED:20230227T001400Z
UID:10000942-1773171000-1773174600@kb2skp.com
SUMMARY:SMCARA Weekly Net
DESCRIPTION:
URL:http://kb2skp.com/event/smcara-weekly-net/2026-03-10
LOCATION:K3HKI – 146.640\, Lexington Park\, MD\, United States
END:VEVENT
BEGIN:VEVENT
DTSTART;TZID=America/New_York:20260304T193000
DTEND;TZID=America/New_York:20260304T203000
DTSTAMP:20260419T171859
CREATED:20230227T000922Z
LAST-MODIFIED:20230227T000922Z
UID:10000680-1772652600-1772656200@kb2skp.com
SUMMARY:Grant's Elmer Net
DESCRIPTION:
URL:http://kb2skp.com/event/grants-elmer-net/2026-03-04
LOCATION:MD
END:VEVENT
BEGIN:VEVENT
DTSTART;TZID=America/New_York:20260303T193000
DTEND;TZID=America/New_York:20260303T203000
DTSTAMP:20260419T171859
CREATED:20230227T045424Z
LAST-MODIFIED:20230227T001400Z
UID:10000941-1772566200-1772569800@kb2skp.com
SUMMARY:SMCARA Weekly Net
DESCRIPTION:
URL:http://kb2skp.com/event/smcara-weekly-net/2026-03-03
LOCATION:K3HKI – 146.640\, Lexington Park\, MD\, United States
END:VEVENT
BEGIN:VEVENT
DTSTART;TZID=America/New_York:20260225T193000
DTEND;TZID=America/New_York:20260225T203000
DTSTAMP:20260419T171859
CREATED:20230227T000922Z
LAST-MODIFIED:20230227T000922Z
UID:10000679-1772047800-1772051400@kb2skp.com
SUMMARY:Grant's Elmer Net
DESCRIPTION:
URL:http://kb2skp.com/event/grants-elmer-net/2026-02-25
LOCATION:MD
END:VEVENT
BEGIN:VEVENT
DTSTART;TZID=America/New_York:20260224T193000
DTEND;TZID=America/New_York:20260224T203000
DTSTAMP:20260419T171859
CREATED:20230227T045424Z
LAST-MODIFIED:20230227T001400Z
UID:10000940-1771961400-1771965000@kb2skp.com
SUMMARY:SMCARA Weekly Net
DESCRIPTION:
URL:http://kb2skp.com/event/smcara-weekly-net/2026-02-24
LOCATION:K3HKI – 146.640\, Lexington Park\, MD\, United States
END:VEVENT
BEGIN:VEVENT
DTSTART;TZID=America/New_York:20260218T193000
DTEND;TZID=America/New_York:20260218T203000
DTSTAMP:20260419T171859
CREATED:20230227T000922Z
LAST-MODIFIED:20230227T000922Z
UID:10000678-1771443000-1771446600@kb2skp.com
SUMMARY:Grant's Elmer Net
DESCRIPTION:
URL:http://kb2skp.com/event/grants-elmer-net/2026-02-18
LOCATION:MD
END:VEVENT
BEGIN:VEVENT
DTSTART;TZID=America/New_York:20260217T193000
DTEND;TZID=America/New_York:20260217T203000
DTSTAMP:20260419T171859
CREATED:20230227T045424Z
LAST-MODIFIED:20230227T001400Z
UID:10000939-1771356600-1771360200@kb2skp.com
SUMMARY:SMCARA Weekly Net
DESCRIPTION:
URL:http://kb2skp.com/event/smcara-weekly-net/2026-02-17
LOCATION:K3HKI – 146.640\, Lexington Park\, MD\, United States
END:VEVENT
BEGIN:VEVENT
DTSTART;TZID=America/New_York:20260211T193000
DTEND;TZID=America/New_York:20260211T203000
DTSTAMP:20260419T171859
CREATED:20230227T000922Z
LAST-MODIFIED:20230227T000922Z
UID:10000677-1770838200-1770841800@kb2skp.com
SUMMARY:Grant's Elmer Net
DESCRIPTION:
URL:http://kb2skp.com/event/grants-elmer-net/2026-02-11
LOCATION:MD
END:VEVENT
BEGIN:VEVENT
DTSTART;TZID=America/New_York:20260210T193000
DTEND;TZID=America/New_York:20260210T203000
DTSTAMP:20260419T171859
CREATED:20230227T045424Z
LAST-MODIFIED:20230227T001400Z
UID:10000938-1770751800-1770755400@kb2skp.com
SUMMARY:SMCARA Weekly Net
DESCRIPTION:
URL:http://kb2skp.com/event/smcara-weekly-net/2026-02-10
LOCATION:K3HKI – 146.640\, Lexington Park\, MD\, United States
END:VEVENT
BEGIN:VEVENT
DTSTART;TZID=America/New_York:20260204T193000
DTEND;TZID=America/New_York:20260204T203000
DTSTAMP:20260419T171859
CREATED:20230227T000922Z
LAST-MODIFIED:20230227T000922Z
UID:10000676-1770233400-1770237000@kb2skp.com
SUMMARY:Grant's Elmer Net
DESCRIPTION:
URL:http://kb2skp.com/event/grants-elmer-net/2026-02-04
LOCATION:MD
END:VEVENT
BEGIN:VEVENT
DTSTART;TZID=America/New_York:20260203T193000
DTEND;TZID=America/New_York:20260203T203000
DTSTAMP:20260419T171859
CREATED:20230227T045424Z
LAST-MODIFIED:20230227T001400Z
UID:10000937-1770147000-1770150600@kb2skp.com
SUMMARY:SMCARA Weekly Net
DESCRIPTION:
URL:http://kb2skp.com/event/smcara-weekly-net/2026-02-03
LOCATION:K3HKI – 146.640\, Lexington Park\, MD\, United States
END:VEVENT
BEGIN:VEVENT
DTSTART;TZID=America/New_York:20260128T193000
DTEND;TZID=America/New_York:20260128T203000
DTSTAMP:20260419T171859
CREATED:20230227T000922Z
LAST-MODIFIED:20230227T000922Z
UID:10000675-1769628600-1769632200@kb2skp.com
SUMMARY:Grant's Elmer Net
DESCRIPTION:
URL:http://kb2skp.com/event/grants-elmer-net/2026-01-28
LOCATION:MD
END:VEVENT
BEGIN:VEVENT
DTSTART;TZID=America/New_York:20260127T193000
DTEND;TZID=America/New_York:20260127T203000
DTSTAMP:20260419T171859
CREATED:20230227T045424Z
LAST-MODIFIED:20230227T001400Z
UID:10000936-1769542200-1769545800@kb2skp.com
SUMMARY:SMCARA Weekly Net
DESCRIPTION:
URL:http://kb2skp.com/event/smcara-weekly-net/2026-01-27
LOCATION:K3HKI – 146.640\, Lexington Park\, MD\, United States
END:VEVENT
BEGIN:VEVENT
DTSTART;TZID=America/New_York:20260121T193000
DTEND;TZID=America/New_York:20260121T203000
DTSTAMP:20260419T171859
CREATED:20230227T000922Z
LAST-MODIFIED:20230227T000922Z
UID:10000674-1769023800-1769027400@kb2skp.com
SUMMARY:Grant's Elmer Net
DESCRIPTION:
URL:http://kb2skp.com/event/grants-elmer-net/2026-01-21
LOCATION:MD
END:VEVENT
BEGIN:VEVENT
DTSTART;TZID=America/New_York:20260120T193000
DTEND;TZID=America/New_York:20260120T203000
DTSTAMP:20260419T171859
CREATED:20230227T045424Z
LAST-MODIFIED:20230227T001400Z
UID:10000935-1768937400-1768941000@kb2skp.com
SUMMARY:SMCARA Weekly Net
DESCRIPTION:
URL:http://kb2skp.com/event/smcara-weekly-net/2026-01-20
LOCATION:K3HKI – 146.640\, Lexington Park\, MD\, United States
END:VEVENT
BEGIN:VEVENT
DTSTART;TZID=America/New_York:20260114T193000
DTEND;TZID=America/New_York:20260114T203000
DTSTAMP:20260419T171859
CREATED:20230227T000922Z
LAST-MODIFIED:20230227T000922Z
UID:10000673-1768419000-1768422600@kb2skp.com
SUMMARY:Grant's Elmer Net
DESCRIPTION:
URL:http://kb2skp.com/event/grants-elmer-net/2026-01-14
LOCATION:MD
END:VEVENT
BEGIN:VEVENT
DTSTART;TZID=America/New_York:20260113T193000
DTEND;TZID=America/New_York:20260113T203000
DTSTAMP:20260419T171859
CREATED:20230227T045424Z
LAST-MODIFIED:20230227T001400Z
UID:10000934-1768332600-1768336200@kb2skp.com
SUMMARY:SMCARA Weekly Net
DESCRIPTION:
URL:http://kb2skp.com/event/smcara-weekly-net/2026-01-13
LOCATION:K3HKI – 146.640\, Lexington Park\, MD\, United States
END:VEVENT
BEGIN:VEVENT
DTSTART;TZID=America/New_York:20260107T193000
DTEND;TZID=America/New_York:20260107T203000
DTSTAMP:20260419T171859
CREATED:20230227T000922Z
LAST-MODIFIED:20230227T000922Z
UID:10000672-1767814200-1767817800@kb2skp.com
SUMMARY:Grant's Elmer Net
DESCRIPTION:
URL:http://kb2skp.com/event/grants-elmer-net/2026-01-07
LOCATION:MD
END:VEVENT
BEGIN:VEVENT
DTSTART;TZID=America/New_York:20260106T193000
DTEND;TZID=America/New_York:20260106T203000
DTSTAMP:20260419T171859
CREATED:20230227T045424Z
LAST-MODIFIED:20230227T001400Z
UID:10000933-1767727800-1767731400@kb2skp.com
SUMMARY:SMCARA Weekly Net
DESCRIPTION:
URL:http://kb2skp.com/event/smcara-weekly-net/2026-01-06
LOCATION:K3HKI – 146.640\, Lexington Park\, MD\, United States
END:VEVENT
BEGIN:VEVENT
DTSTART;TZID=America/New_York:20251231T193000
DTEND;TZID=America/New_York:20251231T203000
DTSTAMP:20260419T171859
CREATED:20230227T000922Z
LAST-MODIFIED:20230227T000922Z
UID:10000671-1767209400-1767213000@kb2skp.com
SUMMARY:Grant's Elmer Net
DESCRIPTION:
URL:http://kb2skp.com/event/grants-elmer-net/2025-12-31
LOCATION:MD
END:VEVENT
BEGIN:VEVENT
DTSTART;TZID=America/New_York:20251230T193000
DTEND;TZID=America/New_York:20251230T203000
DTSTAMP:20260419T171859
CREATED:20230227T045424Z
LAST-MODIFIED:20230227T001400Z
UID:10000932-1767123000-1767126600@kb2skp.com
SUMMARY:SMCARA Weekly Net
DESCRIPTION:
URL:http://kb2skp.com/event/smcara-weekly-net/2025-12-30
LOCATION:K3HKI – 146.640\, Lexington Park\, MD\, United States
END:VEVENT
BEGIN:VEVENT
DTSTART;TZID=America/New_York:20251224T193000
DTEND;TZID=America/New_York:20251224T203000
DTSTAMP:20260419T171859
CREATED:20230227T000922Z
LAST-MODIFIED:20230227T000922Z
UID:10000670-1766604600-1766608200@kb2skp.com
SUMMARY:Grant's Elmer Net
DESCRIPTION:
URL:http://kb2skp.com/event/grants-elmer-net/2025-12-24
LOCATION:MD
END:VEVENT
BEGIN:VEVENT
DTSTART;TZID=America/New_York:20251223T193000
DTEND;TZID=America/New_York:20251223T203000
DTSTAMP:20260419T171859
CREATED:20230227T045424Z
LAST-MODIFIED:20230227T001400Z
UID:10000931-1766518200-1766521800@kb2skp.com
SUMMARY:SMCARA Weekly Net
DESCRIPTION:
URL:http://kb2skp.com/event/smcara-weekly-net/2025-12-23
LOCATION:K3HKI – 146.640\, Lexington Park\, MD\, United States
END:VEVENT
BEGIN:VEVENT
DTSTART;TZID=America/New_York:20251217T193000
DTEND;TZID=America/New_York:20251217T203000
DTSTAMP:20260419T171859
CREATED:20230227T000922Z
LAST-MODIFIED:20230227T000922Z
UID:10000669-1765999800-1766003400@kb2skp.com
SUMMARY:Grant's Elmer Net
DESCRIPTION:
URL:http://kb2skp.com/event/grants-elmer-net/2025-12-17
LOCATION:MD
END:VEVENT
BEGIN:VEVENT
DTSTART;TZID=America/New_York:20251216T193000
DTEND;TZID=America/New_York:20251216T203000
DTSTAMP:20260419T171859
CREATED:20230227T045424Z
LAST-MODIFIED:20230227T001400Z
UID:10000930-1765913400-1765917000@kb2skp.com
SUMMARY:SMCARA Weekly Net
DESCRIPTION:
URL:http://kb2skp.com/event/smcara-weekly-net/2025-12-16
LOCATION:K3HKI – 146.640\, Lexington Park\, MD\, United States
END:VEVENT
BEGIN:VEVENT
DTSTART;TZID=America/New_York:20251210T193000
DTEND;TZID=America/New_York:20251210T203000
DTSTAMP:20260419T171859
CREATED:20230227T000922Z
LAST-MODIFIED:20230227T000922Z
UID:10000668-1765395000-1765398600@kb2skp.com
SUMMARY:Grant's Elmer Net
DESCRIPTION:
URL:http://kb2skp.com/event/grants-elmer-net/2025-12-10
LOCATION:MD
END:VEVENT
BEGIN:VEVENT
DTSTART;TZID=America/New_York:20251209T193000
DTEND;TZID=America/New_York:20251209T203000
DTSTAMP:20260419T171859
CREATED:20230227T045424Z
LAST-MODIFIED:20230227T001400Z
UID:10000929-1765308600-1765312200@kb2skp.com
SUMMARY:SMCARA Weekly Net
DESCRIPTION:
URL:http://kb2skp.com/event/smcara-weekly-net/2025-12-09
LOCATION:K3HKI – 146.640\, Lexington Park\, MD\, United States
END:VEVENT
END:VCALENDAR