BEGIN:VCALENDAR
VERSION:2.0
PRODID:-//KB2SKP - ECPv6.15.20//NONSGML v1.0//EN
CALSCALE:GREGORIAN
METHOD:PUBLISH
X-WR-CALNAME:KB2SKP
X-ORIGINAL-URL:http://kb2skp.com
X-WR-CALDESC:Events for KB2SKP
REFRESH-INTERVAL;VALUE=DURATION:PT1H
X-Robots-Tag:noindex
X-PUBLISHED-TTL:PT1H
BEGIN:VTIMEZONE
TZID:America/New_York
BEGIN:DAYLIGHT
TZOFFSETFROM:-0500
TZOFFSETTO:-0400
TZNAME:EDT
DTSTART:20230312T070000
END:DAYLIGHT
BEGIN:STANDARD
TZOFFSETFROM:-0400
TZOFFSETTO:-0500
TZNAME:EST
DTSTART:20231105T060000
END:STANDARD
BEGIN:DAYLIGHT
TZOFFSETFROM:-0500
TZOFFSETTO:-0400
TZNAME:EDT
DTSTART:20240310T070000
END:DAYLIGHT
BEGIN:STANDARD
TZOFFSETFROM:-0400
TZOFFSETTO:-0500
TZNAME:EST
DTSTART:20241103T060000
END:STANDARD
BEGIN:DAYLIGHT
TZOFFSETFROM:-0500
TZOFFSETTO:-0400
TZNAME:EDT
DTSTART:20250309T070000
END:DAYLIGHT
BEGIN:STANDARD
TZOFFSETFROM:-0400
TZOFFSETTO:-0500
TZNAME:EST
DTSTART:20251102T060000
END:STANDARD
END:VTIMEZONE
BEGIN:VEVENT
DTSTART;TZID=America/New_York:20240612T193000
DTEND;TZID=America/New_York:20240612T203000
DTSTAMP:20260420T193131
CREATED:20230227T000922Z
LAST-MODIFIED:20230227T000922Z
UID:10000590-1718220600-1718224200@kb2skp.com
SUMMARY:Grant's Elmer Net
DESCRIPTION:
URL:http://kb2skp.com/event/grants-elmer-net/2024-06-12
LOCATION:MD
END:VEVENT
BEGIN:VEVENT
DTSTART;TZID=America/New_York:20240611T193000
DTEND;TZID=America/New_York:20240611T203000
DTSTAMP:20260420T193131
CREATED:20230227T045424Z
LAST-MODIFIED:20230227T001400Z
UID:10000851-1718134200-1718137800@kb2skp.com
SUMMARY:SMCARA Weekly Net
DESCRIPTION:
URL:http://kb2skp.com/event/smcara-weekly-net/2024-06-11
LOCATION:K3HKI – 146.640\, Lexington Park\, MD\, United States
END:VEVENT
BEGIN:VEVENT
DTSTART;TZID=America/New_York:20240605T193000
DTEND;TZID=America/New_York:20240605T203000
DTSTAMP:20260420T193131
CREATED:20230227T000922Z
LAST-MODIFIED:20230227T000922Z
UID:10000589-1717615800-1717619400@kb2skp.com
SUMMARY:Grant's Elmer Net
DESCRIPTION:
URL:http://kb2skp.com/event/grants-elmer-net/2024-06-05
LOCATION:MD
END:VEVENT
BEGIN:VEVENT
DTSTART;TZID=America/New_York:20240604T193000
DTEND;TZID=America/New_York:20240604T203000
DTSTAMP:20260420T193131
CREATED:20230227T045424Z
LAST-MODIFIED:20230227T001400Z
UID:10000850-1717529400-1717533000@kb2skp.com
SUMMARY:SMCARA Weekly Net
DESCRIPTION:
URL:http://kb2skp.com/event/smcara-weekly-net/2024-06-04
LOCATION:K3HKI – 146.640\, Lexington Park\, MD\, United States
END:VEVENT
BEGIN:VEVENT
DTSTART;TZID=America/New_York:20240529T193000
DTEND;TZID=America/New_York:20240529T203000
DTSTAMP:20260420T193131
CREATED:20230227T000922Z
LAST-MODIFIED:20230227T000922Z
UID:10000588-1717011000-1717014600@kb2skp.com
SUMMARY:Grant's Elmer Net
DESCRIPTION:
URL:http://kb2skp.com/event/grants-elmer-net/2024-05-29
LOCATION:MD
END:VEVENT
BEGIN:VEVENT
DTSTART;TZID=America/New_York:20240528T193000
DTEND;TZID=America/New_York:20240528T203000
DTSTAMP:20260420T193131
CREATED:20230227T045424Z
LAST-MODIFIED:20230227T001400Z
UID:10000849-1716924600-1716928200@kb2skp.com
SUMMARY:SMCARA Weekly Net
DESCRIPTION:
URL:http://kb2skp.com/event/smcara-weekly-net/2024-05-28
LOCATION:K3HKI – 146.640\, Lexington Park\, MD\, United States
END:VEVENT
BEGIN:VEVENT
DTSTART;TZID=America/New_York:20240522T193000
DTEND;TZID=America/New_York:20240522T203000
DTSTAMP:20260420T193131
CREATED:20230227T000922Z
LAST-MODIFIED:20230227T000922Z
UID:10000587-1716406200-1716409800@kb2skp.com
SUMMARY:Grant's Elmer Net
DESCRIPTION:
URL:http://kb2skp.com/event/grants-elmer-net/2024-05-22
LOCATION:MD
END:VEVENT
BEGIN:VEVENT
DTSTART;TZID=America/New_York:20240521T193000
DTEND;TZID=America/New_York:20240521T203000
DTSTAMP:20260420T193131
CREATED:20230227T045424Z
LAST-MODIFIED:20230227T001400Z
UID:10000848-1716319800-1716323400@kb2skp.com
SUMMARY:SMCARA Weekly Net
DESCRIPTION:
URL:http://kb2skp.com/event/smcara-weekly-net/2024-05-21
LOCATION:K3HKI – 146.640\, Lexington Park\, MD\, United States
END:VEVENT
BEGIN:VEVENT
DTSTART;TZID=America/New_York:20240515T193000
DTEND;TZID=America/New_York:20240515T203000
DTSTAMP:20260420T193131
CREATED:20230227T000922Z
LAST-MODIFIED:20230227T000922Z
UID:10000586-1715801400-1715805000@kb2skp.com
SUMMARY:Grant's Elmer Net
DESCRIPTION:
URL:http://kb2skp.com/event/grants-elmer-net/2024-05-15
LOCATION:MD
END:VEVENT
BEGIN:VEVENT
DTSTART;TZID=America/New_York:20240514T193000
DTEND;TZID=America/New_York:20240514T203000
DTSTAMP:20260420T193131
CREATED:20230227T045424Z
LAST-MODIFIED:20230227T001400Z
UID:10000847-1715715000-1715718600@kb2skp.com
SUMMARY:SMCARA Weekly Net
DESCRIPTION:
URL:http://kb2skp.com/event/smcara-weekly-net/2024-05-14
LOCATION:K3HKI – 146.640\, Lexington Park\, MD\, United States
END:VEVENT
BEGIN:VEVENT
DTSTART;TZID=America/New_York:20240508T193000
DTEND;TZID=America/New_York:20240508T203000
DTSTAMP:20260420T193131
CREATED:20230227T000922Z
LAST-MODIFIED:20230227T000922Z
UID:10000585-1715196600-1715200200@kb2skp.com
SUMMARY:Grant's Elmer Net
DESCRIPTION:
URL:http://kb2skp.com/event/grants-elmer-net/2024-05-08
LOCATION:MD
END:VEVENT
BEGIN:VEVENT
DTSTART;TZID=America/New_York:20240507T193000
DTEND;TZID=America/New_York:20240507T203000
DTSTAMP:20260420T193131
CREATED:20230227T045424Z
LAST-MODIFIED:20230227T001400Z
UID:10000846-1715110200-1715113800@kb2skp.com
SUMMARY:SMCARA Weekly Net
DESCRIPTION:
URL:http://kb2skp.com/event/smcara-weekly-net/2024-05-07
LOCATION:K3HKI – 146.640\, Lexington Park\, MD\, United States
END:VEVENT
BEGIN:VEVENT
DTSTART;TZID=America/New_York:20240501T193000
DTEND;TZID=America/New_York:20240501T203000
DTSTAMP:20260420T193131
CREATED:20230227T000922Z
LAST-MODIFIED:20230227T000922Z
UID:10000584-1714591800-1714595400@kb2skp.com
SUMMARY:Grant's Elmer Net
DESCRIPTION:
URL:http://kb2skp.com/event/grants-elmer-net/2024-05-01
LOCATION:MD
END:VEVENT
BEGIN:VEVENT
DTSTART;TZID=America/New_York:20240430T193000
DTEND;TZID=America/New_York:20240430T203000
DTSTAMP:20260420T193131
CREATED:20230227T045424Z
LAST-MODIFIED:20230227T001400Z
UID:10000845-1714505400-1714509000@kb2skp.com
SUMMARY:SMCARA Weekly Net
DESCRIPTION:
URL:http://kb2skp.com/event/smcara-weekly-net/2024-04-30
LOCATION:K3HKI – 146.640\, Lexington Park\, MD\, United States
END:VEVENT
BEGIN:VEVENT
DTSTART;TZID=America/New_York:20240424T193000
DTEND;TZID=America/New_York:20240424T203000
DTSTAMP:20260420T193131
CREATED:20230227T000922Z
LAST-MODIFIED:20230227T000922Z
UID:10000583-1713987000-1713990600@kb2skp.com
SUMMARY:Grant's Elmer Net
DESCRIPTION:
URL:http://kb2skp.com/event/grants-elmer-net/2024-04-24
LOCATION:MD
END:VEVENT
BEGIN:VEVENT
DTSTART;TZID=America/New_York:20240423T193000
DTEND;TZID=America/New_York:20240423T203000
DTSTAMP:20260420T193131
CREATED:20230227T045424Z
LAST-MODIFIED:20230227T001400Z
UID:10000844-1713900600-1713904200@kb2skp.com
SUMMARY:SMCARA Weekly Net
DESCRIPTION:
URL:http://kb2skp.com/event/smcara-weekly-net/2024-04-23
LOCATION:K3HKI – 146.640\, Lexington Park\, MD\, United States
END:VEVENT
BEGIN:VEVENT
DTSTART;TZID=America/New_York:20240417T193000
DTEND;TZID=America/New_York:20240417T203000
DTSTAMP:20260420T193131
CREATED:20230227T000922Z
LAST-MODIFIED:20230227T000922Z
UID:10000582-1713382200-1713385800@kb2skp.com
SUMMARY:Grant's Elmer Net
DESCRIPTION:
URL:http://kb2skp.com/event/grants-elmer-net/2024-04-17
LOCATION:MD
END:VEVENT
BEGIN:VEVENT
DTSTART;TZID=America/New_York:20240416T193000
DTEND;TZID=America/New_York:20240416T203000
DTSTAMP:20260420T193131
CREATED:20230227T045424Z
LAST-MODIFIED:20230227T001400Z
UID:10000843-1713295800-1713299400@kb2skp.com
SUMMARY:SMCARA Weekly Net
DESCRIPTION:
URL:http://kb2skp.com/event/smcara-weekly-net/2024-04-16
LOCATION:K3HKI – 146.640\, Lexington Park\, MD\, United States
END:VEVENT
BEGIN:VEVENT
DTSTART;TZID=America/New_York:20240410T193000
DTEND;TZID=America/New_York:20240410T203000
DTSTAMP:20260420T193131
CREATED:20230227T000922Z
LAST-MODIFIED:20230227T000922Z
UID:10000581-1712777400-1712781000@kb2skp.com
SUMMARY:Grant's Elmer Net
DESCRIPTION:
URL:http://kb2skp.com/event/grants-elmer-net/2024-04-10
LOCATION:MD
END:VEVENT
BEGIN:VEVENT
DTSTART;TZID=America/New_York:20240409T193000
DTEND;TZID=America/New_York:20240409T203000
DTSTAMP:20260420T193131
CREATED:20230227T045424Z
LAST-MODIFIED:20230227T001400Z
UID:10000842-1712691000-1712694600@kb2skp.com
SUMMARY:SMCARA Weekly Net
DESCRIPTION:
URL:http://kb2skp.com/event/smcara-weekly-net/2024-04-09
LOCATION:K3HKI – 146.640\, Lexington Park\, MD\, United States
END:VEVENT
BEGIN:VEVENT
DTSTART;TZID=America/New_York:20240403T193000
DTEND;TZID=America/New_York:20240403T203000
DTSTAMP:20260420T193131
CREATED:20230227T000922Z
LAST-MODIFIED:20230227T000922Z
UID:10000580-1712172600-1712176200@kb2skp.com
SUMMARY:Grant's Elmer Net
DESCRIPTION:
URL:http://kb2skp.com/event/grants-elmer-net/2024-04-03
LOCATION:MD
END:VEVENT
BEGIN:VEVENT
DTSTART;TZID=America/New_York:20240402T193000
DTEND;TZID=America/New_York:20240402T203000
DTSTAMP:20260420T193131
CREATED:20230227T045424Z
LAST-MODIFIED:20230227T001400Z
UID:10000841-1712086200-1712089800@kb2skp.com
SUMMARY:SMCARA Weekly Net
DESCRIPTION:
URL:http://kb2skp.com/event/smcara-weekly-net/2024-04-02
LOCATION:K3HKI – 146.640\, Lexington Park\, MD\, United States
END:VEVENT
BEGIN:VEVENT
DTSTART;TZID=America/New_York:20240327T193000
DTEND;TZID=America/New_York:20240327T203000
DTSTAMP:20260420T193131
CREATED:20230227T000922Z
LAST-MODIFIED:20230227T000922Z
UID:10000579-1711567800-1711571400@kb2skp.com
SUMMARY:Grant's Elmer Net
DESCRIPTION:
URL:http://kb2skp.com/event/grants-elmer-net/2024-03-27
LOCATION:MD
END:VEVENT
BEGIN:VEVENT
DTSTART;TZID=America/New_York:20240326T193000
DTEND;TZID=America/New_York:20240326T203000
DTSTAMP:20260420T193131
CREATED:20230227T045424Z
LAST-MODIFIED:20230227T001400Z
UID:10000840-1711481400-1711485000@kb2skp.com
SUMMARY:SMCARA Weekly Net
DESCRIPTION:
URL:http://kb2skp.com/event/smcara-weekly-net/2024-03-26
LOCATION:K3HKI – 146.640\, Lexington Park\, MD\, United States
END:VEVENT
BEGIN:VEVENT
DTSTART;TZID=America/New_York:20240320T193000
DTEND;TZID=America/New_York:20240320T203000
DTSTAMP:20260420T193131
CREATED:20230227T000922Z
LAST-MODIFIED:20230227T000922Z
UID:10000578-1710963000-1710966600@kb2skp.com
SUMMARY:Grant's Elmer Net
DESCRIPTION:
URL:http://kb2skp.com/event/grants-elmer-net/2024-03-20
LOCATION:MD
END:VEVENT
BEGIN:VEVENT
DTSTART;TZID=America/New_York:20240319T193000
DTEND;TZID=America/New_York:20240319T203000
DTSTAMP:20260420T193131
CREATED:20230227T045424Z
LAST-MODIFIED:20230227T001400Z
UID:10000839-1710876600-1710880200@kb2skp.com
SUMMARY:SMCARA Weekly Net
DESCRIPTION:
URL:http://kb2skp.com/event/smcara-weekly-net/2024-03-19
LOCATION:K3HKI – 146.640\, Lexington Park\, MD\, United States
END:VEVENT
BEGIN:VEVENT
DTSTART;TZID=America/New_York:20240313T193000
DTEND;TZID=America/New_York:20240313T203000
DTSTAMP:20260420T193131
CREATED:20230227T000922Z
LAST-MODIFIED:20230227T000922Z
UID:10000577-1710358200-1710361800@kb2skp.com
SUMMARY:Grant's Elmer Net
DESCRIPTION:
URL:http://kb2skp.com/event/grants-elmer-net/2024-03-13
LOCATION:MD
END:VEVENT
BEGIN:VEVENT
DTSTART;TZID=America/New_York:20240312T193000
DTEND;TZID=America/New_York:20240312T203000
DTSTAMP:20260420T193131
CREATED:20230227T045424Z
LAST-MODIFIED:20230227T001400Z
UID:10000838-1710271800-1710275400@kb2skp.com
SUMMARY:SMCARA Weekly Net
DESCRIPTION:
URL:http://kb2skp.com/event/smcara-weekly-net/2024-03-12
LOCATION:K3HKI – 146.640\, Lexington Park\, MD\, United States
END:VEVENT
BEGIN:VEVENT
DTSTART;TZID=America/New_York:20240306T193000
DTEND;TZID=America/New_York:20240306T203000
DTSTAMP:20260420T193131
CREATED:20230227T000922Z
LAST-MODIFIED:20230227T000922Z
UID:10000576-1709753400-1709757000@kb2skp.com
SUMMARY:Grant's Elmer Net
DESCRIPTION:
URL:http://kb2skp.com/event/grants-elmer-net/2024-03-06
LOCATION:MD
END:VEVENT
BEGIN:VEVENT
DTSTART;TZID=America/New_York:20240305T193000
DTEND;TZID=America/New_York:20240305T203000
DTSTAMP:20260420T193131
CREATED:20230227T045424Z
LAST-MODIFIED:20230227T001400Z
UID:10000837-1709667000-1709670600@kb2skp.com
SUMMARY:SMCARA Weekly Net
DESCRIPTION:
URL:http://kb2skp.com/event/smcara-weekly-net/2024-03-05
LOCATION:K3HKI – 146.640\, Lexington Park\, MD\, United States
END:VEVENT
END:VCALENDAR