BEGIN:VCALENDAR
VERSION:2.0
PRODID:-//KB2SKP - ECPv6.15.20//NONSGML v1.0//EN
CALSCALE:GREGORIAN
METHOD:PUBLISH
X-WR-CALNAME:KB2SKP
X-ORIGINAL-URL:http://kb2skp.com
X-WR-CALDESC:Events for KB2SKP
REFRESH-INTERVAL;VALUE=DURATION:PT1H
X-Robots-Tag:noindex
X-PUBLISHED-TTL:PT1H
BEGIN:VTIMEZONE
TZID:America/New_York
BEGIN:DAYLIGHT
TZOFFSETFROM:-0500
TZOFFSETTO:-0400
TZNAME:EDT
DTSTART:20270314T070000
END:DAYLIGHT
BEGIN:STANDARD
TZOFFSETFROM:-0400
TZOFFSETTO:-0500
TZNAME:EST
DTSTART:20271107T060000
END:STANDARD
BEGIN:DAYLIGHT
TZOFFSETFROM:-0500
TZOFFSETTO:-0400
TZNAME:EDT
DTSTART:20280312T070000
END:DAYLIGHT
BEGIN:STANDARD
TZOFFSETFROM:-0400
TZOFFSETTO:-0500
TZNAME:EST
DTSTART:20281105T060000
END:STANDARD
BEGIN:DAYLIGHT
TZOFFSETFROM:-0500
TZOFFSETTO:-0400
TZNAME:EDT
DTSTART:20290311T070000
END:DAYLIGHT
BEGIN:STANDARD
TZOFFSETFROM:-0400
TZOFFSETTO:-0500
TZNAME:EST
DTSTART:20291104T060000
END:STANDARD
END:VTIMEZONE
BEGIN:VEVENT
DTSTART;TZID=America/New_York:20280111T193000
DTEND;TZID=America/New_York:20280111T203000
DTSTAMP:20260420T153909
CREATED:20230227T045424Z
LAST-MODIFIED:20230227T001400Z
UID:10001038-1831231800-1831235400@kb2skp.com
SUMMARY:SMCARA Weekly Net
DESCRIPTION:
URL:http://kb2skp.com/event/smcara-weekly-net/2028-01-11
LOCATION:K3HKI – 146.640\, Lexington Park\, MD\, United States
END:VEVENT
BEGIN:VEVENT
DTSTART;TZID=America/New_York:20280112T193000
DTEND;TZID=America/New_York:20280112T203000
DTSTAMP:20260420T153909
CREATED:20230227T000922Z
LAST-MODIFIED:20230227T000922Z
UID:10000777-1831318200-1831321800@kb2skp.com
SUMMARY:Grant's Elmer Net
DESCRIPTION:
URL:http://kb2skp.com/event/grants-elmer-net/2028-01-12
LOCATION:MD
END:VEVENT
BEGIN:VEVENT
DTSTART;TZID=America/New_York:20280118T193000
DTEND;TZID=America/New_York:20280118T203000
DTSTAMP:20260420T153909
CREATED:20230227T045424Z
LAST-MODIFIED:20230227T001400Z
UID:10001039-1831836600-1831840200@kb2skp.com
SUMMARY:SMCARA Weekly Net
DESCRIPTION:
URL:http://kb2skp.com/event/smcara-weekly-net/2028-01-18
LOCATION:K3HKI – 146.640\, Lexington Park\, MD\, United States
END:VEVENT
BEGIN:VEVENT
DTSTART;TZID=America/New_York:20280119T193000
DTEND;TZID=America/New_York:20280119T203000
DTSTAMP:20260420T153909
CREATED:20230227T000922Z
LAST-MODIFIED:20230227T000922Z
UID:10000778-1831923000-1831926600@kb2skp.com
SUMMARY:Grant's Elmer Net
DESCRIPTION:
URL:http://kb2skp.com/event/grants-elmer-net/2028-01-19
LOCATION:MD
END:VEVENT
BEGIN:VEVENT
DTSTART;TZID=America/New_York:20280125T193000
DTEND;TZID=America/New_York:20280125T203000
DTSTAMP:20260420T153909
CREATED:20230227T045424Z
LAST-MODIFIED:20230227T001400Z
UID:10001040-1832441400-1832445000@kb2skp.com
SUMMARY:SMCARA Weekly Net
DESCRIPTION:
URL:http://kb2skp.com/event/smcara-weekly-net/2028-01-25
LOCATION:K3HKI – 146.640\, Lexington Park\, MD\, United States
END:VEVENT
BEGIN:VEVENT
DTSTART;TZID=America/New_York:20280126T193000
DTEND;TZID=America/New_York:20280126T203000
DTSTAMP:20260420T153909
CREATED:20230227T000922Z
LAST-MODIFIED:20230227T000922Z
UID:10000779-1832527800-1832531400@kb2skp.com
SUMMARY:Grant's Elmer Net
DESCRIPTION:
URL:http://kb2skp.com/event/grants-elmer-net/2028-01-26
LOCATION:MD
END:VEVENT
BEGIN:VEVENT
DTSTART;TZID=America/New_York:20280201T193000
DTEND;TZID=America/New_York:20280201T203000
DTSTAMP:20260420T153909
CREATED:20230227T045424Z
LAST-MODIFIED:20230227T001400Z
UID:10001041-1833046200-1833049800@kb2skp.com
SUMMARY:SMCARA Weekly Net
DESCRIPTION:
URL:http://kb2skp.com/event/smcara-weekly-net/2028-02-01
LOCATION:K3HKI – 146.640\, Lexington Park\, MD\, United States
END:VEVENT
BEGIN:VEVENT
DTSTART;TZID=America/New_York:20280202T193000
DTEND;TZID=America/New_York:20280202T203000
DTSTAMP:20260420T153909
CREATED:20230227T000922Z
LAST-MODIFIED:20230227T000922Z
UID:10000780-1833132600-1833136200@kb2skp.com
SUMMARY:Grant's Elmer Net
DESCRIPTION:
URL:http://kb2skp.com/event/grants-elmer-net/2028-02-02
LOCATION:MD
END:VEVENT
BEGIN:VEVENT
DTSTART;TZID=America/New_York:20280208T193000
DTEND;TZID=America/New_York:20280208T203000
DTSTAMP:20260420T153909
CREATED:20230227T045424Z
LAST-MODIFIED:20230227T001400Z
UID:10001042-1833651000-1833654600@kb2skp.com
SUMMARY:SMCARA Weekly Net
DESCRIPTION:
URL:http://kb2skp.com/event/smcara-weekly-net/2028-02-08
LOCATION:K3HKI – 146.640\, Lexington Park\, MD\, United States
END:VEVENT
BEGIN:VEVENT
DTSTART;TZID=America/New_York:20280209T193000
DTEND;TZID=America/New_York:20280209T203000
DTSTAMP:20260420T153909
CREATED:20230227T000922Z
LAST-MODIFIED:20230227T000922Z
UID:10000781-1833737400-1833741000@kb2skp.com
SUMMARY:Grant's Elmer Net
DESCRIPTION:
URL:http://kb2skp.com/event/grants-elmer-net/2028-02-09
LOCATION:MD
END:VEVENT
BEGIN:VEVENT
DTSTART;TZID=America/New_York:20280215T193000
DTEND;TZID=America/New_York:20280215T203000
DTSTAMP:20260420T153909
CREATED:20230227T045424Z
LAST-MODIFIED:20230227T001400Z
UID:10001043-1834255800-1834259400@kb2skp.com
SUMMARY:SMCARA Weekly Net
DESCRIPTION:
URL:http://kb2skp.com/event/smcara-weekly-net/2028-02-15
LOCATION:K3HKI – 146.640\, Lexington Park\, MD\, United States
END:VEVENT
BEGIN:VEVENT
DTSTART;TZID=America/New_York:20280216T193000
DTEND;TZID=America/New_York:20280216T203000
DTSTAMP:20260420T153909
CREATED:20230227T000922Z
LAST-MODIFIED:20230227T000922Z
UID:10000782-1834342200-1834345800@kb2skp.com
SUMMARY:Grant's Elmer Net
DESCRIPTION:
URL:http://kb2skp.com/event/grants-elmer-net/2028-02-16
LOCATION:MD
END:VEVENT
BEGIN:VEVENT
DTSTART;TZID=America/New_York:20280222T193000
DTEND;TZID=America/New_York:20280222T203000
DTSTAMP:20260420T153909
CREATED:20230227T045424Z
LAST-MODIFIED:20230227T001400Z
UID:10001044-1834860600-1834864200@kb2skp.com
SUMMARY:SMCARA Weekly Net
DESCRIPTION:
URL:http://kb2skp.com/event/smcara-weekly-net/2028-02-22
LOCATION:K3HKI – 146.640\, Lexington Park\, MD\, United States
END:VEVENT
BEGIN:VEVENT
DTSTART;TZID=America/New_York:20280223T193000
DTEND;TZID=America/New_York:20280223T203000
DTSTAMP:20260420T153909
CREATED:20230227T000922Z
LAST-MODIFIED:20230227T000922Z
UID:10000783-1834947000-1834950600@kb2skp.com
SUMMARY:Grant's Elmer Net
DESCRIPTION:
URL:http://kb2skp.com/event/grants-elmer-net/2028-02-23
LOCATION:MD
END:VEVENT
END:VCALENDAR