BEGIN:VCALENDAR
VERSION:2.0
PRODID:-//KB2SKP - ECPv6.15.20//NONSGML v1.0//EN
CALSCALE:GREGORIAN
METHOD:PUBLISH
X-WR-CALNAME:KB2SKP
X-ORIGINAL-URL:http://kb2skp.com
X-WR-CALDESC:Events for KB2SKP
REFRESH-INTERVAL;VALUE=DURATION:PT1H
X-Robots-Tag:noindex
X-PUBLISHED-TTL:PT1H
BEGIN:VTIMEZONE
TZID:America/New_York
BEGIN:DAYLIGHT
TZOFFSETFROM:-0500
TZOFFSETTO:-0400
TZNAME:EDT
DTSTART:20260308T070000
END:DAYLIGHT
BEGIN:STANDARD
TZOFFSETFROM:-0400
TZOFFSETTO:-0500
TZNAME:EST
DTSTART:20261101T060000
END:STANDARD
BEGIN:DAYLIGHT
TZOFFSETFROM:-0500
TZOFFSETTO:-0400
TZNAME:EDT
DTSTART:20270314T070000
END:DAYLIGHT
BEGIN:STANDARD
TZOFFSETFROM:-0400
TZOFFSETTO:-0500
TZNAME:EST
DTSTART:20271107T060000
END:STANDARD
BEGIN:DAYLIGHT
TZOFFSETFROM:-0500
TZOFFSETTO:-0400
TZNAME:EDT
DTSTART:20280312T070000
END:DAYLIGHT
BEGIN:STANDARD
TZOFFSETFROM:-0400
TZOFFSETTO:-0500
TZNAME:EST
DTSTART:20281105T060000
END:STANDARD
END:VTIMEZONE
BEGIN:VEVENT
DTSTART;TZID=America/New_York:20270901T193000
DTEND;TZID=America/New_York:20270901T203000
DTSTAMP:20260420T033254
CREATED:20230227T000922Z
LAST-MODIFIED:20230227T000922Z
UID:10000758-1819827000-1819830600@kb2skp.com
SUMMARY:Grant's Elmer Net
DESCRIPTION:
URL:http://kb2skp.com/event/grants-elmer-net/2027-09-01
LOCATION:MD
END:VEVENT
BEGIN:VEVENT
DTSTART;TZID=America/New_York:20270907T193000
DTEND;TZID=America/New_York:20270907T203000
DTSTAMP:20260420T033254
CREATED:20230227T045424Z
LAST-MODIFIED:20230227T001400Z
UID:10001020-1820345400-1820349000@kb2skp.com
SUMMARY:SMCARA Weekly Net
DESCRIPTION:
URL:http://kb2skp.com/event/smcara-weekly-net/2027-09-07
LOCATION:K3HKI – 146.640\, Lexington Park\, MD\, United States
END:VEVENT
BEGIN:VEVENT
DTSTART;TZID=America/New_York:20270908T193000
DTEND;TZID=America/New_York:20270908T203000
DTSTAMP:20260420T033254
CREATED:20230227T000922Z
LAST-MODIFIED:20230227T000922Z
UID:10000759-1820431800-1820435400@kb2skp.com
SUMMARY:Grant's Elmer Net
DESCRIPTION:
URL:http://kb2skp.com/event/grants-elmer-net/2027-09-08
LOCATION:MD
END:VEVENT
BEGIN:VEVENT
DTSTART;TZID=America/New_York:20270914T193000
DTEND;TZID=America/New_York:20270914T203000
DTSTAMP:20260420T033254
CREATED:20230227T045424Z
LAST-MODIFIED:20230227T001400Z
UID:10001021-1820950200-1820953800@kb2skp.com
SUMMARY:SMCARA Weekly Net
DESCRIPTION:
URL:http://kb2skp.com/event/smcara-weekly-net/2027-09-14
LOCATION:K3HKI – 146.640\, Lexington Park\, MD\, United States
END:VEVENT
BEGIN:VEVENT
DTSTART;TZID=America/New_York:20270915T193000
DTEND;TZID=America/New_York:20270915T203000
DTSTAMP:20260420T033254
CREATED:20230227T000922Z
LAST-MODIFIED:20230227T000922Z
UID:10000760-1821036600-1821040200@kb2skp.com
SUMMARY:Grant's Elmer Net
DESCRIPTION:
URL:http://kb2skp.com/event/grants-elmer-net/2027-09-15
LOCATION:MD
END:VEVENT
BEGIN:VEVENT
DTSTART;TZID=America/New_York:20270921T193000
DTEND;TZID=America/New_York:20270921T203000
DTSTAMP:20260420T033254
CREATED:20230227T045424Z
LAST-MODIFIED:20230227T001400Z
UID:10001022-1821555000-1821558600@kb2skp.com
SUMMARY:SMCARA Weekly Net
DESCRIPTION:
URL:http://kb2skp.com/event/smcara-weekly-net/2027-09-21
LOCATION:K3HKI – 146.640\, Lexington Park\, MD\, United States
END:VEVENT
BEGIN:VEVENT
DTSTART;TZID=America/New_York:20270922T193000
DTEND;TZID=America/New_York:20270922T203000
DTSTAMP:20260420T033254
CREATED:20230227T000922Z
LAST-MODIFIED:20230227T000922Z
UID:10000761-1821641400-1821645000@kb2skp.com
SUMMARY:Grant's Elmer Net
DESCRIPTION:
URL:http://kb2skp.com/event/grants-elmer-net/2027-09-22
LOCATION:MD
END:VEVENT
BEGIN:VEVENT
DTSTART;TZID=America/New_York:20270928T193000
DTEND;TZID=America/New_York:20270928T203000
DTSTAMP:20260420T033254
CREATED:20230227T045424Z
LAST-MODIFIED:20230227T001400Z
UID:10001023-1822159800-1822163400@kb2skp.com
SUMMARY:SMCARA Weekly Net
DESCRIPTION:
URL:http://kb2skp.com/event/smcara-weekly-net/2027-09-28
LOCATION:K3HKI – 146.640\, Lexington Park\, MD\, United States
END:VEVENT
BEGIN:VEVENT
DTSTART;TZID=America/New_York:20270929T193000
DTEND;TZID=America/New_York:20270929T203000
DTSTAMP:20260420T033254
CREATED:20230227T000922Z
LAST-MODIFIED:20230227T000922Z
UID:10000762-1822246200-1822249800@kb2skp.com
SUMMARY:Grant's Elmer Net
DESCRIPTION:
URL:http://kb2skp.com/event/grants-elmer-net/2027-09-29
LOCATION:MD
END:VEVENT
BEGIN:VEVENT
DTSTART;TZID=America/New_York:20271005T193000
DTEND;TZID=America/New_York:20271005T203000
DTSTAMP:20260420T033254
CREATED:20230227T045424Z
LAST-MODIFIED:20230227T001400Z
UID:10001024-1822764600-1822768200@kb2skp.com
SUMMARY:SMCARA Weekly Net
DESCRIPTION:
URL:http://kb2skp.com/event/smcara-weekly-net/2027-10-05
LOCATION:K3HKI – 146.640\, Lexington Park\, MD\, United States
END:VEVENT
BEGIN:VEVENT
DTSTART;TZID=America/New_York:20271006T193000
DTEND;TZID=America/New_York:20271006T203000
DTSTAMP:20260420T033254
CREATED:20230227T000922Z
LAST-MODIFIED:20230227T000922Z
UID:10000763-1822851000-1822854600@kb2skp.com
SUMMARY:Grant's Elmer Net
DESCRIPTION:
URL:http://kb2skp.com/event/grants-elmer-net/2027-10-06
LOCATION:MD
END:VEVENT
BEGIN:VEVENT
DTSTART;TZID=America/New_York:20271012T193000
DTEND;TZID=America/New_York:20271012T203000
DTSTAMP:20260420T033254
CREATED:20230227T045424Z
LAST-MODIFIED:20230227T001400Z
UID:10001025-1823369400-1823373000@kb2skp.com
SUMMARY:SMCARA Weekly Net
DESCRIPTION:
URL:http://kb2skp.com/event/smcara-weekly-net/2027-10-12
LOCATION:K3HKI – 146.640\, Lexington Park\, MD\, United States
END:VEVENT
BEGIN:VEVENT
DTSTART;TZID=America/New_York:20271013T193000
DTEND;TZID=America/New_York:20271013T203000
DTSTAMP:20260420T033254
CREATED:20230227T000922Z
LAST-MODIFIED:20230227T000922Z
UID:10000764-1823455800-1823459400@kb2skp.com
SUMMARY:Grant's Elmer Net
DESCRIPTION:
URL:http://kb2skp.com/event/grants-elmer-net/2027-10-13
LOCATION:MD
END:VEVENT
BEGIN:VEVENT
DTSTART;TZID=America/New_York:20271019T193000
DTEND;TZID=America/New_York:20271019T203000
DTSTAMP:20260420T033254
CREATED:20230227T045424Z
LAST-MODIFIED:20230227T001400Z
UID:10001026-1823974200-1823977800@kb2skp.com
SUMMARY:SMCARA Weekly Net
DESCRIPTION:
URL:http://kb2skp.com/event/smcara-weekly-net/2027-10-19
LOCATION:K3HKI – 146.640\, Lexington Park\, MD\, United States
END:VEVENT
BEGIN:VEVENT
DTSTART;TZID=America/New_York:20271020T193000
DTEND;TZID=America/New_York:20271020T203000
DTSTAMP:20260420T033254
CREATED:20230227T000922Z
LAST-MODIFIED:20230227T000922Z
UID:10000765-1824060600-1824064200@kb2skp.com
SUMMARY:Grant's Elmer Net
DESCRIPTION:
URL:http://kb2skp.com/event/grants-elmer-net/2027-10-20
LOCATION:MD
END:VEVENT
BEGIN:VEVENT
DTSTART;TZID=America/New_York:20271026T193000
DTEND;TZID=America/New_York:20271026T203000
DTSTAMP:20260420T033254
CREATED:20230227T045424Z
LAST-MODIFIED:20230227T001400Z
UID:10001027-1824579000-1824582600@kb2skp.com
SUMMARY:SMCARA Weekly Net
DESCRIPTION:
URL:http://kb2skp.com/event/smcara-weekly-net/2027-10-26
LOCATION:K3HKI – 146.640\, Lexington Park\, MD\, United States
END:VEVENT
BEGIN:VEVENT
DTSTART;TZID=America/New_York:20271027T193000
DTEND;TZID=America/New_York:20271027T203000
DTSTAMP:20260420T033254
CREATED:20230227T000922Z
LAST-MODIFIED:20230227T000922Z
UID:10000766-1824665400-1824669000@kb2skp.com
SUMMARY:Grant's Elmer Net
DESCRIPTION:
URL:http://kb2skp.com/event/grants-elmer-net/2027-10-27
LOCATION:MD
END:VEVENT
BEGIN:VEVENT
DTSTART;TZID=America/New_York:20271102T193000
DTEND;TZID=America/New_York:20271102T203000
DTSTAMP:20260420T033254
CREATED:20230227T045424Z
LAST-MODIFIED:20230227T001400Z
UID:10001028-1825183800-1825187400@kb2skp.com
SUMMARY:SMCARA Weekly Net
DESCRIPTION:
URL:http://kb2skp.com/event/smcara-weekly-net/2027-11-02
LOCATION:K3HKI – 146.640\, Lexington Park\, MD\, United States
END:VEVENT
BEGIN:VEVENT
DTSTART;TZID=America/New_York:20271103T193000
DTEND;TZID=America/New_York:20271103T203000
DTSTAMP:20260420T033254
CREATED:20230227T000922Z
LAST-MODIFIED:20230227T000922Z
UID:10000767-1825270200-1825273800@kb2skp.com
SUMMARY:Grant's Elmer Net
DESCRIPTION:
URL:http://kb2skp.com/event/grants-elmer-net/2027-11-03
LOCATION:MD
END:VEVENT
BEGIN:VEVENT
DTSTART;TZID=America/New_York:20271109T193000
DTEND;TZID=America/New_York:20271109T203000
DTSTAMP:20260420T033254
CREATED:20230227T045424Z
LAST-MODIFIED:20230227T001400Z
UID:10001029-1825788600-1825792200@kb2skp.com
SUMMARY:SMCARA Weekly Net
DESCRIPTION:
URL:http://kb2skp.com/event/smcara-weekly-net/2027-11-09
LOCATION:K3HKI – 146.640\, Lexington Park\, MD\, United States
END:VEVENT
BEGIN:VEVENT
DTSTART;TZID=America/New_York:20271110T193000
DTEND;TZID=America/New_York:20271110T203000
DTSTAMP:20260420T033254
CREATED:20230227T000922Z
LAST-MODIFIED:20230227T000922Z
UID:10000768-1825875000-1825878600@kb2skp.com
SUMMARY:Grant's Elmer Net
DESCRIPTION:
URL:http://kb2skp.com/event/grants-elmer-net/2027-11-10
LOCATION:MD
END:VEVENT
BEGIN:VEVENT
DTSTART;TZID=America/New_York:20271116T193000
DTEND;TZID=America/New_York:20271116T203000
DTSTAMP:20260420T033254
CREATED:20230227T045424Z
LAST-MODIFIED:20230227T001400Z
UID:10001030-1826393400-1826397000@kb2skp.com
SUMMARY:SMCARA Weekly Net
DESCRIPTION:
URL:http://kb2skp.com/event/smcara-weekly-net/2027-11-16
LOCATION:K3HKI – 146.640\, Lexington Park\, MD\, United States
END:VEVENT
BEGIN:VEVENT
DTSTART;TZID=America/New_York:20271117T193000
DTEND;TZID=America/New_York:20271117T203000
DTSTAMP:20260420T033254
CREATED:20230227T000922Z
LAST-MODIFIED:20230227T000922Z
UID:10000769-1826479800-1826483400@kb2skp.com
SUMMARY:Grant's Elmer Net
DESCRIPTION:
URL:http://kb2skp.com/event/grants-elmer-net/2027-11-17
LOCATION:MD
END:VEVENT
BEGIN:VEVENT
DTSTART;TZID=America/New_York:20271123T193000
DTEND;TZID=America/New_York:20271123T203000
DTSTAMP:20260420T033254
CREATED:20230227T045424Z
LAST-MODIFIED:20230227T001400Z
UID:10001031-1826998200-1827001800@kb2skp.com
SUMMARY:SMCARA Weekly Net
DESCRIPTION:
URL:http://kb2skp.com/event/smcara-weekly-net/2027-11-23
LOCATION:K3HKI – 146.640\, Lexington Park\, MD\, United States
END:VEVENT
BEGIN:VEVENT
DTSTART;TZID=America/New_York:20271124T193000
DTEND;TZID=America/New_York:20271124T203000
DTSTAMP:20260420T033254
CREATED:20230227T000922Z
LAST-MODIFIED:20230227T000922Z
UID:10000770-1827084600-1827088200@kb2skp.com
SUMMARY:Grant's Elmer Net
DESCRIPTION:
URL:http://kb2skp.com/event/grants-elmer-net/2027-11-24
LOCATION:MD
END:VEVENT
BEGIN:VEVENT
DTSTART;TZID=America/New_York:20271130T193000
DTEND;TZID=America/New_York:20271130T203000
DTSTAMP:20260420T033254
CREATED:20230227T045424Z
LAST-MODIFIED:20230227T001400Z
UID:10001032-1827603000-1827606600@kb2skp.com
SUMMARY:SMCARA Weekly Net
DESCRIPTION:
URL:http://kb2skp.com/event/smcara-weekly-net/2027-11-30
LOCATION:K3HKI – 146.640\, Lexington Park\, MD\, United States
END:VEVENT
BEGIN:VEVENT
DTSTART;TZID=America/New_York:20271201T193000
DTEND;TZID=America/New_York:20271201T203000
DTSTAMP:20260420T033254
CREATED:20230227T000922Z
LAST-MODIFIED:20230227T000922Z
UID:10000771-1827689400-1827693000@kb2skp.com
SUMMARY:Grant's Elmer Net
DESCRIPTION:
URL:http://kb2skp.com/event/grants-elmer-net/2027-12-01
LOCATION:MD
END:VEVENT
BEGIN:VEVENT
DTSTART;TZID=America/New_York:20271207T193000
DTEND;TZID=America/New_York:20271207T203000
DTSTAMP:20260420T033254
CREATED:20230227T045424Z
LAST-MODIFIED:20230227T001400Z
UID:10001033-1828207800-1828211400@kb2skp.com
SUMMARY:SMCARA Weekly Net
DESCRIPTION:
URL:http://kb2skp.com/event/smcara-weekly-net/2027-12-07
LOCATION:K3HKI – 146.640\, Lexington Park\, MD\, United States
END:VEVENT
BEGIN:VEVENT
DTSTART;TZID=America/New_York:20271208T193000
DTEND;TZID=America/New_York:20271208T203000
DTSTAMP:20260420T033254
CREATED:20230227T000922Z
LAST-MODIFIED:20230227T000922Z
UID:10000772-1828294200-1828297800@kb2skp.com
SUMMARY:Grant's Elmer Net
DESCRIPTION:
URL:http://kb2skp.com/event/grants-elmer-net/2027-12-08
LOCATION:MD
END:VEVENT
BEGIN:VEVENT
DTSTART;TZID=America/New_York:20271214T193000
DTEND;TZID=America/New_York:20271214T203000
DTSTAMP:20260420T033254
CREATED:20230227T045424Z
LAST-MODIFIED:20230227T001400Z
UID:10001034-1828812600-1828816200@kb2skp.com
SUMMARY:SMCARA Weekly Net
DESCRIPTION:
URL:http://kb2skp.com/event/smcara-weekly-net/2027-12-14
LOCATION:K3HKI – 146.640\, Lexington Park\, MD\, United States
END:VEVENT
END:VCALENDAR