BEGIN:VCALENDAR
VERSION:2.0
PRODID:-//KB2SKP - ECPv6.15.20//NONSGML v1.0//EN
CALSCALE:GREGORIAN
METHOD:PUBLISH
X-WR-CALNAME:KB2SKP
X-ORIGINAL-URL:http://kb2skp.com
X-WR-CALDESC:Events for KB2SKP
REFRESH-INTERVAL;VALUE=DURATION:PT1H
X-Robots-Tag:noindex
X-PUBLISHED-TTL:PT1H
BEGIN:VTIMEZONE
TZID:America/New_York
BEGIN:DAYLIGHT
TZOFFSETFROM:-0500
TZOFFSETTO:-0400
TZNAME:EDT
DTSTART:20230312T070000
END:DAYLIGHT
BEGIN:STANDARD
TZOFFSETFROM:-0400
TZOFFSETTO:-0500
TZNAME:EST
DTSTART:20231105T060000
END:STANDARD
BEGIN:DAYLIGHT
TZOFFSETFROM:-0500
TZOFFSETTO:-0400
TZNAME:EDT
DTSTART:20240310T070000
END:DAYLIGHT
BEGIN:STANDARD
TZOFFSETFROM:-0400
TZOFFSETTO:-0500
TZNAME:EST
DTSTART:20241103T060000
END:STANDARD
BEGIN:DAYLIGHT
TZOFFSETFROM:-0500
TZOFFSETTO:-0400
TZNAME:EDT
DTSTART:20250309T070000
END:DAYLIGHT
BEGIN:STANDARD
TZOFFSETFROM:-0400
TZOFFSETTO:-0500
TZNAME:EST
DTSTART:20251102T060000
END:STANDARD
BEGIN:DAYLIGHT
TZOFFSETFROM:-0500
TZOFFSETTO:-0400
TZNAME:EDT
DTSTART:20260308T070000
END:DAYLIGHT
BEGIN:STANDARD
TZOFFSETFROM:-0400
TZOFFSETTO:-0500
TZNAME:EST
DTSTART:20261101T060000
END:STANDARD
END:VTIMEZONE
BEGIN:VEVENT
DTSTART;TZID=America/New_York:20250204T193000
DTEND;TZID=America/New_York:20250204T203000
DTSTAMP:20260420T021804
CREATED:20230227T045424Z
LAST-MODIFIED:20230227T001400Z
UID:10000885-1738697400-1738701000@kb2skp.com
SUMMARY:SMCARA Weekly Net
DESCRIPTION:
URL:http://kb2skp.com/event/smcara-weekly-net/2025-02-04
LOCATION:K3HKI – 146.640\, Lexington Park\, MD\, United States
END:VEVENT
BEGIN:VEVENT
DTSTART;TZID=America/New_York:20250129T193000
DTEND;TZID=America/New_York:20250129T203000
DTSTAMP:20260420T021804
CREATED:20230227T000922Z
LAST-MODIFIED:20230227T000922Z
UID:10000623-1738179000-1738182600@kb2skp.com
SUMMARY:Grant's Elmer Net
DESCRIPTION:
URL:http://kb2skp.com/event/grants-elmer-net/2025-01-29
LOCATION:MD
END:VEVENT
BEGIN:VEVENT
DTSTART;TZID=America/New_York:20250128T193000
DTEND;TZID=America/New_York:20250128T203000
DTSTAMP:20260420T021804
CREATED:20230227T045424Z
LAST-MODIFIED:20230227T001400Z
UID:10000884-1738092600-1738096200@kb2skp.com
SUMMARY:SMCARA Weekly Net
DESCRIPTION:
URL:http://kb2skp.com/event/smcara-weekly-net/2025-01-28
LOCATION:K3HKI – 146.640\, Lexington Park\, MD\, United States
END:VEVENT
BEGIN:VEVENT
DTSTART;TZID=America/New_York:20250122T193000
DTEND;TZID=America/New_York:20250122T203000
DTSTAMP:20260420T021804
CREATED:20230227T000922Z
LAST-MODIFIED:20230227T000922Z
UID:10000622-1737574200-1737577800@kb2skp.com
SUMMARY:Grant's Elmer Net
DESCRIPTION:
URL:http://kb2skp.com/event/grants-elmer-net/2025-01-22
LOCATION:MD
END:VEVENT
BEGIN:VEVENT
DTSTART;TZID=America/New_York:20250121T193000
DTEND;TZID=America/New_York:20250121T203000
DTSTAMP:20260420T021804
CREATED:20230227T045424Z
LAST-MODIFIED:20230227T001400Z
UID:10000883-1737487800-1737491400@kb2skp.com
SUMMARY:SMCARA Weekly Net
DESCRIPTION:
URL:http://kb2skp.com/event/smcara-weekly-net/2025-01-21
LOCATION:K3HKI – 146.640\, Lexington Park\, MD\, United States
END:VEVENT
BEGIN:VEVENT
DTSTART;TZID=America/New_York:20250115T193000
DTEND;TZID=America/New_York:20250115T203000
DTSTAMP:20260420T021804
CREATED:20230227T000922Z
LAST-MODIFIED:20230227T000922Z
UID:10000621-1736969400-1736973000@kb2skp.com
SUMMARY:Grant's Elmer Net
DESCRIPTION:
URL:http://kb2skp.com/event/grants-elmer-net/2025-01-15
LOCATION:MD
END:VEVENT
BEGIN:VEVENT
DTSTART;TZID=America/New_York:20250114T193000
DTEND;TZID=America/New_York:20250114T203000
DTSTAMP:20260420T021804
CREATED:20230227T045424Z
LAST-MODIFIED:20230227T001400Z
UID:10000882-1736883000-1736886600@kb2skp.com
SUMMARY:SMCARA Weekly Net
DESCRIPTION:
URL:http://kb2skp.com/event/smcara-weekly-net/2025-01-14
LOCATION:K3HKI – 146.640\, Lexington Park\, MD\, United States
END:VEVENT
BEGIN:VEVENT
DTSTART;TZID=America/New_York:20250108T193000
DTEND;TZID=America/New_York:20250108T203000
DTSTAMP:20260420T021804
CREATED:20230227T000922Z
LAST-MODIFIED:20230227T000922Z
UID:10000620-1736364600-1736368200@kb2skp.com
SUMMARY:Grant's Elmer Net
DESCRIPTION:
URL:http://kb2skp.com/event/grants-elmer-net/2025-01-08
LOCATION:MD
END:VEVENT
BEGIN:VEVENT
DTSTART;TZID=America/New_York:20250107T193000
DTEND;TZID=America/New_York:20250107T203000
DTSTAMP:20260420T021804
CREATED:20230227T045424Z
LAST-MODIFIED:20230227T001400Z
UID:10000881-1736278200-1736281800@kb2skp.com
SUMMARY:SMCARA Weekly Net
DESCRIPTION:
URL:http://kb2skp.com/event/smcara-weekly-net/2025-01-07
LOCATION:K3HKI – 146.640\, Lexington Park\, MD\, United States
END:VEVENT
BEGIN:VEVENT
DTSTART;TZID=America/New_York:20250101T193000
DTEND;TZID=America/New_York:20250101T203000
DTSTAMP:20260420T021804
CREATED:20230227T000922Z
LAST-MODIFIED:20230227T000922Z
UID:10000619-1735759800-1735763400@kb2skp.com
SUMMARY:Grant's Elmer Net
DESCRIPTION:
URL:http://kb2skp.com/event/grants-elmer-net/2025-01-01
LOCATION:MD
END:VEVENT
BEGIN:VEVENT
DTSTART;TZID=America/New_York:20241231T193000
DTEND;TZID=America/New_York:20241231T203000
DTSTAMP:20260420T021804
CREATED:20230227T045424Z
LAST-MODIFIED:20230227T001400Z
UID:10000880-1735673400-1735677000@kb2skp.com
SUMMARY:SMCARA Weekly Net
DESCRIPTION:
URL:http://kb2skp.com/event/smcara-weekly-net/2024-12-31
LOCATION:K3HKI – 146.640\, Lexington Park\, MD\, United States
END:VEVENT
BEGIN:VEVENT
DTSTART;TZID=America/New_York:20241225T193000
DTEND;TZID=America/New_York:20241225T203000
DTSTAMP:20260420T021804
CREATED:20230227T000922Z
LAST-MODIFIED:20230227T000922Z
UID:10000618-1735155000-1735158600@kb2skp.com
SUMMARY:Grant's Elmer Net
DESCRIPTION:
URL:http://kb2skp.com/event/grants-elmer-net/2024-12-25
LOCATION:MD
END:VEVENT
BEGIN:VEVENT
DTSTART;TZID=America/New_York:20241224T193000
DTEND;TZID=America/New_York:20241224T203000
DTSTAMP:20260420T021804
CREATED:20230227T045424Z
LAST-MODIFIED:20230227T001400Z
UID:10000879-1735068600-1735072200@kb2skp.com
SUMMARY:SMCARA Weekly Net
DESCRIPTION:
URL:http://kb2skp.com/event/smcara-weekly-net/2024-12-24
LOCATION:K3HKI – 146.640\, Lexington Park\, MD\, United States
END:VEVENT
BEGIN:VEVENT
DTSTART;TZID=America/New_York:20241218T193000
DTEND;TZID=America/New_York:20241218T203000
DTSTAMP:20260420T021804
CREATED:20230227T000922Z
LAST-MODIFIED:20230227T000922Z
UID:10000617-1734550200-1734553800@kb2skp.com
SUMMARY:Grant's Elmer Net
DESCRIPTION:
URL:http://kb2skp.com/event/grants-elmer-net/2024-12-18
LOCATION:MD
END:VEVENT
BEGIN:VEVENT
DTSTART;TZID=America/New_York:20241217T193000
DTEND;TZID=America/New_York:20241217T203000
DTSTAMP:20260420T021804
CREATED:20230227T045424Z
LAST-MODIFIED:20230227T001400Z
UID:10000878-1734463800-1734467400@kb2skp.com
SUMMARY:SMCARA Weekly Net
DESCRIPTION:
URL:http://kb2skp.com/event/smcara-weekly-net/2024-12-17
LOCATION:K3HKI – 146.640\, Lexington Park\, MD\, United States
END:VEVENT
BEGIN:VEVENT
DTSTART;TZID=America/New_York:20241211T193000
DTEND;TZID=America/New_York:20241211T203000
DTSTAMP:20260420T021804
CREATED:20230227T000922Z
LAST-MODIFIED:20230227T000922Z
UID:10000616-1733945400-1733949000@kb2skp.com
SUMMARY:Grant's Elmer Net
DESCRIPTION:
URL:http://kb2skp.com/event/grants-elmer-net/2024-12-11
LOCATION:MD
END:VEVENT
BEGIN:VEVENT
DTSTART;TZID=America/New_York:20241210T193000
DTEND;TZID=America/New_York:20241210T203000
DTSTAMP:20260420T021804
CREATED:20230227T045424Z
LAST-MODIFIED:20230227T001400Z
UID:10000877-1733859000-1733862600@kb2skp.com
SUMMARY:SMCARA Weekly Net
DESCRIPTION:
URL:http://kb2skp.com/event/smcara-weekly-net/2024-12-10
LOCATION:K3HKI – 146.640\, Lexington Park\, MD\, United States
END:VEVENT
BEGIN:VEVENT
DTSTART;TZID=America/New_York:20241204T193000
DTEND;TZID=America/New_York:20241204T203000
DTSTAMP:20260420T021804
CREATED:20230227T000922Z
LAST-MODIFIED:20230227T000922Z
UID:10000615-1733340600-1733344200@kb2skp.com
SUMMARY:Grant's Elmer Net
DESCRIPTION:
URL:http://kb2skp.com/event/grants-elmer-net/2024-12-04
LOCATION:MD
END:VEVENT
BEGIN:VEVENT
DTSTART;TZID=America/New_York:20241203T193000
DTEND;TZID=America/New_York:20241203T203000
DTSTAMP:20260420T021804
CREATED:20230227T045424Z
LAST-MODIFIED:20230227T001400Z
UID:10000876-1733254200-1733257800@kb2skp.com
SUMMARY:SMCARA Weekly Net
DESCRIPTION:
URL:http://kb2skp.com/event/smcara-weekly-net/2024-12-03
LOCATION:K3HKI – 146.640\, Lexington Park\, MD\, United States
END:VEVENT
BEGIN:VEVENT
DTSTART;TZID=America/New_York:20241127T193000
DTEND;TZID=America/New_York:20241127T203000
DTSTAMP:20260420T021804
CREATED:20230227T000922Z
LAST-MODIFIED:20230227T000922Z
UID:10000614-1732735800-1732739400@kb2skp.com
SUMMARY:Grant's Elmer Net
DESCRIPTION:
URL:http://kb2skp.com/event/grants-elmer-net/2024-11-27
LOCATION:MD
END:VEVENT
BEGIN:VEVENT
DTSTART;TZID=America/New_York:20241126T193000
DTEND;TZID=America/New_York:20241126T203000
DTSTAMP:20260420T021804
CREATED:20230227T045424Z
LAST-MODIFIED:20230227T001400Z
UID:10000875-1732649400-1732653000@kb2skp.com
SUMMARY:SMCARA Weekly Net
DESCRIPTION:
URL:http://kb2skp.com/event/smcara-weekly-net/2024-11-26
LOCATION:K3HKI – 146.640\, Lexington Park\, MD\, United States
END:VEVENT
BEGIN:VEVENT
DTSTART;TZID=America/New_York:20241120T193000
DTEND;TZID=America/New_York:20241120T203000
DTSTAMP:20260420T021804
CREATED:20230227T000922Z
LAST-MODIFIED:20230227T000922Z
UID:10000613-1732131000-1732134600@kb2skp.com
SUMMARY:Grant's Elmer Net
DESCRIPTION:
URL:http://kb2skp.com/event/grants-elmer-net/2024-11-20
LOCATION:MD
END:VEVENT
BEGIN:VEVENT
DTSTART;TZID=America/New_York:20241119T193000
DTEND;TZID=America/New_York:20241119T203000
DTSTAMP:20260420T021804
CREATED:20230227T045424Z
LAST-MODIFIED:20230227T001400Z
UID:10000874-1732044600-1732048200@kb2skp.com
SUMMARY:SMCARA Weekly Net
DESCRIPTION:
URL:http://kb2skp.com/event/smcara-weekly-net/2024-11-19
LOCATION:K3HKI – 146.640\, Lexington Park\, MD\, United States
END:VEVENT
BEGIN:VEVENT
DTSTART;TZID=America/New_York:20241113T193000
DTEND;TZID=America/New_York:20241113T203000
DTSTAMP:20260420T021804
CREATED:20230227T000922Z
LAST-MODIFIED:20230227T000922Z
UID:10000612-1731526200-1731529800@kb2skp.com
SUMMARY:Grant's Elmer Net
DESCRIPTION:
URL:http://kb2skp.com/event/grants-elmer-net/2024-11-13
LOCATION:MD
END:VEVENT
BEGIN:VEVENT
DTSTART;TZID=America/New_York:20241112T193000
DTEND;TZID=America/New_York:20241112T203000
DTSTAMP:20260420T021804
CREATED:20230227T045424Z
LAST-MODIFIED:20230227T001400Z
UID:10000873-1731439800-1731443400@kb2skp.com
SUMMARY:SMCARA Weekly Net
DESCRIPTION:
URL:http://kb2skp.com/event/smcara-weekly-net/2024-11-12
LOCATION:K3HKI – 146.640\, Lexington Park\, MD\, United States
END:VEVENT
BEGIN:VEVENT
DTSTART;TZID=America/New_York:20241106T193000
DTEND;TZID=America/New_York:20241106T203000
DTSTAMP:20260420T021804
CREATED:20230227T000922Z
LAST-MODIFIED:20230227T000922Z
UID:10000611-1730921400-1730925000@kb2skp.com
SUMMARY:Grant's Elmer Net
DESCRIPTION:
URL:http://kb2skp.com/event/grants-elmer-net/2024-11-06
LOCATION:MD
END:VEVENT
BEGIN:VEVENT
DTSTART;TZID=America/New_York:20241105T193000
DTEND;TZID=America/New_York:20241105T203000
DTSTAMP:20260420T021804
CREATED:20230227T045424Z
LAST-MODIFIED:20230227T001400Z
UID:10000872-1730835000-1730838600@kb2skp.com
SUMMARY:SMCARA Weekly Net
DESCRIPTION:
URL:http://kb2skp.com/event/smcara-weekly-net/2024-11-05
LOCATION:K3HKI – 146.640\, Lexington Park\, MD\, United States
END:VEVENT
BEGIN:VEVENT
DTSTART;TZID=America/New_York:20241030T193000
DTEND;TZID=America/New_York:20241030T203000
DTSTAMP:20260420T021804
CREATED:20230227T000922Z
LAST-MODIFIED:20230227T000922Z
UID:10000610-1730316600-1730320200@kb2skp.com
SUMMARY:Grant's Elmer Net
DESCRIPTION:
URL:http://kb2skp.com/event/grants-elmer-net/2024-10-30
LOCATION:MD
END:VEVENT
BEGIN:VEVENT
DTSTART;TZID=America/New_York:20241029T193000
DTEND;TZID=America/New_York:20241029T203000
DTSTAMP:20260420T021804
CREATED:20230227T045424Z
LAST-MODIFIED:20230227T001400Z
UID:10000871-1730230200-1730233800@kb2skp.com
SUMMARY:SMCARA Weekly Net
DESCRIPTION:
URL:http://kb2skp.com/event/smcara-weekly-net/2024-10-29
LOCATION:K3HKI – 146.640\, Lexington Park\, MD\, United States
END:VEVENT
BEGIN:VEVENT
DTSTART;TZID=America/New_York:20241023T193000
DTEND;TZID=America/New_York:20241023T203000
DTSTAMP:20260420T021804
CREATED:20230227T000922Z
LAST-MODIFIED:20230227T000922Z
UID:10000609-1729711800-1729715400@kb2skp.com
SUMMARY:Grant's Elmer Net
DESCRIPTION:
URL:http://kb2skp.com/event/grants-elmer-net/2024-10-23
LOCATION:MD
END:VEVENT
END:VCALENDAR