BEGIN:VCALENDAR
VERSION:2.0
PRODID:-//KB2SKP - ECPv6.15.20//NONSGML v1.0//EN
CALSCALE:GREGORIAN
METHOD:PUBLISH
X-ORIGINAL-URL:http://kb2skp.com
X-WR-CALDESC:Events for KB2SKP
REFRESH-INTERVAL;VALUE=DURATION:PT1H
X-Robots-Tag:noindex
X-PUBLISHED-TTL:PT1H
BEGIN:VTIMEZONE
TZID:America/New_York
BEGIN:DAYLIGHT
TZOFFSETFROM:-0500
TZOFFSETTO:-0400
TZNAME:EDT
DTSTART:20260308T070000
END:DAYLIGHT
BEGIN:STANDARD
TZOFFSETFROM:-0400
TZOFFSETTO:-0500
TZNAME:EST
DTSTART:20261101T060000
END:STANDARD
BEGIN:DAYLIGHT
TZOFFSETFROM:-0500
TZOFFSETTO:-0400
TZNAME:EDT
DTSTART:20270314T070000
END:DAYLIGHT
BEGIN:STANDARD
TZOFFSETFROM:-0400
TZOFFSETTO:-0500
TZNAME:EST
DTSTART:20271107T060000
END:STANDARD
BEGIN:DAYLIGHT
TZOFFSETFROM:-0500
TZOFFSETTO:-0400
TZNAME:EDT
DTSTART:20280312T070000
END:DAYLIGHT
BEGIN:STANDARD
TZOFFSETFROM:-0400
TZOFFSETTO:-0500
TZNAME:EST
DTSTART:20281105T060000
END:STANDARD
END:VTIMEZONE
BEGIN:VEVENT
DTSTART;TZID=America/New_York:20270511T193000
DTEND;TZID=America/New_York:20270511T203000
DTSTAMP:20260420T014746
CREATED:20230227T045424Z
LAST-MODIFIED:20230227T001400Z
UID:10001003-1810063800-1810067400@kb2skp.com
SUMMARY:SMCARA Weekly Net
DESCRIPTION:
URL:http://kb2skp.com/event/smcara-weekly-net/2027-05-11
LOCATION:K3HKI – 146.640\, Lexington Park\, MD\, United States
END:VEVENT
BEGIN:VEVENT
DTSTART;TZID=America/New_York:20270512T193000
DTEND;TZID=America/New_York:20270512T203000
DTSTAMP:20260420T014746
CREATED:20230227T000922Z
LAST-MODIFIED:20230227T000922Z
UID:10000742-1810150200-1810153800@kb2skp.com
SUMMARY:Grant's Elmer Net
DESCRIPTION:
URL:http://kb2skp.com/event/grants-elmer-net/2027-05-12
LOCATION:MD
END:VEVENT
BEGIN:VEVENT
DTSTART;TZID=America/New_York:20270518T193000
DTEND;TZID=America/New_York:20270518T203000
DTSTAMP:20260420T014746
CREATED:20230227T045424Z
LAST-MODIFIED:20230227T001400Z
UID:10001004-1810668600-1810672200@kb2skp.com
SUMMARY:SMCARA Weekly Net
DESCRIPTION:
URL:http://kb2skp.com/event/smcara-weekly-net/2027-05-18
LOCATION:K3HKI – 146.640\, Lexington Park\, MD\, United States
END:VEVENT
BEGIN:VEVENT
DTSTART;TZID=America/New_York:20270519T193000
DTEND;TZID=America/New_York:20270519T203000
DTSTAMP:20260420T014746
CREATED:20230227T000922Z
LAST-MODIFIED:20230227T000922Z
UID:10000743-1810755000-1810758600@kb2skp.com
SUMMARY:Grant's Elmer Net
DESCRIPTION:
URL:http://kb2skp.com/event/grants-elmer-net/2027-05-19
LOCATION:MD
END:VEVENT
BEGIN:VEVENT
DTSTART;TZID=America/New_York:20270525T193000
DTEND;TZID=America/New_York:20270525T203000
DTSTAMP:20260420T014746
CREATED:20230227T045424Z
LAST-MODIFIED:20230227T001400Z
UID:10001005-1811273400-1811277000@kb2skp.com
SUMMARY:SMCARA Weekly Net
DESCRIPTION:
URL:http://kb2skp.com/event/smcara-weekly-net/2027-05-25
LOCATION:K3HKI – 146.640\, Lexington Park\, MD\, United States
END:VEVENT
BEGIN:VEVENT
DTSTART;TZID=America/New_York:20270526T193000
DTEND;TZID=America/New_York:20270526T203000
DTSTAMP:20260420T014746
CREATED:20230227T000922Z
LAST-MODIFIED:20230227T000922Z
UID:10000744-1811359800-1811363400@kb2skp.com
SUMMARY:Grant's Elmer Net
DESCRIPTION:
URL:http://kb2skp.com/event/grants-elmer-net/2027-05-26
LOCATION:MD
END:VEVENT
BEGIN:VEVENT
DTSTART;TZID=America/New_York:20270601T193000
DTEND;TZID=America/New_York:20270601T203000
DTSTAMP:20260420T014746
CREATED:20230227T045424Z
LAST-MODIFIED:20230227T001400Z
UID:10001006-1811878200-1811881800@kb2skp.com
SUMMARY:SMCARA Weekly Net
DESCRIPTION:
URL:http://kb2skp.com/event/smcara-weekly-net/2027-06-01
LOCATION:K3HKI – 146.640\, Lexington Park\, MD\, United States
END:VEVENT
BEGIN:VEVENT
DTSTART;TZID=America/New_York:20270602T193000
DTEND;TZID=America/New_York:20270602T203000
DTSTAMP:20260420T014746
CREATED:20230227T000922Z
LAST-MODIFIED:20230227T000922Z
UID:10000745-1811964600-1811968200@kb2skp.com
SUMMARY:Grant's Elmer Net
DESCRIPTION:
URL:http://kb2skp.com/event/grants-elmer-net/2027-06-02
LOCATION:MD
END:VEVENT
BEGIN:VEVENT
DTSTART;TZID=America/New_York:20270608T193000
DTEND;TZID=America/New_York:20270608T203000
DTSTAMP:20260420T014746
CREATED:20230227T045424Z
LAST-MODIFIED:20230227T001400Z
UID:10001007-1812483000-1812486600@kb2skp.com
SUMMARY:SMCARA Weekly Net
DESCRIPTION:
URL:http://kb2skp.com/event/smcara-weekly-net/2027-06-08
LOCATION:K3HKI – 146.640\, Lexington Park\, MD\, United States
END:VEVENT
BEGIN:VEVENT
DTSTART;TZID=America/New_York:20270609T193000
DTEND;TZID=America/New_York:20270609T203000
DTSTAMP:20260420T014746
CREATED:20230227T000922Z
LAST-MODIFIED:20230227T000922Z
UID:10000746-1812569400-1812573000@kb2skp.com
SUMMARY:Grant's Elmer Net
DESCRIPTION:
URL:http://kb2skp.com/event/grants-elmer-net/2027-06-09
LOCATION:MD
END:VEVENT
BEGIN:VEVENT
DTSTART;TZID=America/New_York:20270615T193000
DTEND;TZID=America/New_York:20270615T203000
DTSTAMP:20260420T014746
CREATED:20230227T045424Z
LAST-MODIFIED:20230227T001400Z
UID:10001008-1813087800-1813091400@kb2skp.com
SUMMARY:SMCARA Weekly Net
DESCRIPTION:
URL:http://kb2skp.com/event/smcara-weekly-net/2027-06-15
LOCATION:K3HKI – 146.640\, Lexington Park\, MD\, United States
END:VEVENT
BEGIN:VEVENT
DTSTART;TZID=America/New_York:20270616T193000
DTEND;TZID=America/New_York:20270616T203000
DTSTAMP:20260420T014746
CREATED:20230227T000922Z
LAST-MODIFIED:20230227T000922Z
UID:10000747-1813174200-1813177800@kb2skp.com
SUMMARY:Grant's Elmer Net
DESCRIPTION:
URL:http://kb2skp.com/event/grants-elmer-net/2027-06-16
LOCATION:MD
END:VEVENT
BEGIN:VEVENT
DTSTART;TZID=America/New_York:20270622T193000
DTEND;TZID=America/New_York:20270622T203000
DTSTAMP:20260420T014746
CREATED:20230227T045424Z
LAST-MODIFIED:20230227T001400Z
UID:10001009-1813692600-1813696200@kb2skp.com
SUMMARY:SMCARA Weekly Net
DESCRIPTION:
URL:http://kb2skp.com/event/smcara-weekly-net/2027-06-22
LOCATION:K3HKI – 146.640\, Lexington Park\, MD\, United States
END:VEVENT
BEGIN:VEVENT
DTSTART;TZID=America/New_York:20270623T193000
DTEND;TZID=America/New_York:20270623T203000
DTSTAMP:20260420T014746
CREATED:20230227T000922Z
LAST-MODIFIED:20230227T000922Z
UID:10000748-1813779000-1813782600@kb2skp.com
SUMMARY:Grant's Elmer Net
DESCRIPTION:
URL:http://kb2skp.com/event/grants-elmer-net/2027-06-23
LOCATION:MD
END:VEVENT
BEGIN:VEVENT
DTSTART;TZID=America/New_York:20270629T193000
DTEND;TZID=America/New_York:20270629T203000
DTSTAMP:20260420T014746
CREATED:20230227T045424Z
LAST-MODIFIED:20230227T001400Z
UID:10001010-1814297400-1814301000@kb2skp.com
SUMMARY:SMCARA Weekly Net
DESCRIPTION:
URL:http://kb2skp.com/event/smcara-weekly-net/2027-06-29
LOCATION:K3HKI – 146.640\, Lexington Park\, MD\, United States
END:VEVENT
BEGIN:VEVENT
DTSTART;TZID=America/New_York:20270630T193000
DTEND;TZID=America/New_York:20270630T203000
DTSTAMP:20260420T014746
CREATED:20230227T000922Z
LAST-MODIFIED:20230227T000922Z
UID:10000749-1814383800-1814387400@kb2skp.com
SUMMARY:Grant's Elmer Net
DESCRIPTION:
URL:http://kb2skp.com/event/grants-elmer-net/2027-06-30
LOCATION:MD
END:VEVENT
BEGIN:VEVENT
DTSTART;TZID=America/New_York:20270706T193000
DTEND;TZID=America/New_York:20270706T203000
DTSTAMP:20260420T014746
CREATED:20230227T045424Z
LAST-MODIFIED:20230227T001400Z
UID:10001011-1814902200-1814905800@kb2skp.com
SUMMARY:SMCARA Weekly Net
DESCRIPTION:
URL:http://kb2skp.com/event/smcara-weekly-net/2027-07-06
LOCATION:K3HKI – 146.640\, Lexington Park\, MD\, United States
END:VEVENT
BEGIN:VEVENT
DTSTART;TZID=America/New_York:20270707T193000
DTEND;TZID=America/New_York:20270707T203000
DTSTAMP:20260420T014746
CREATED:20230227T000922Z
LAST-MODIFIED:20230227T000922Z
UID:10000750-1814988600-1814992200@kb2skp.com
SUMMARY:Grant's Elmer Net
DESCRIPTION:
URL:http://kb2skp.com/event/grants-elmer-net/2027-07-07
LOCATION:MD
END:VEVENT
BEGIN:VEVENT
DTSTART;TZID=America/New_York:20270713T193000
DTEND;TZID=America/New_York:20270713T203000
DTSTAMP:20260420T014746
CREATED:20230227T045424Z
LAST-MODIFIED:20230227T001400Z
UID:10001012-1815507000-1815510600@kb2skp.com
SUMMARY:SMCARA Weekly Net
DESCRIPTION:
URL:http://kb2skp.com/event/smcara-weekly-net/2027-07-13
LOCATION:K3HKI – 146.640\, Lexington Park\, MD\, United States
END:VEVENT
BEGIN:VEVENT
DTSTART;TZID=America/New_York:20270714T193000
DTEND;TZID=America/New_York:20270714T203000
DTSTAMP:20260420T014746
CREATED:20230227T000922Z
LAST-MODIFIED:20230227T000922Z
UID:10000751-1815593400-1815597000@kb2skp.com
SUMMARY:Grant's Elmer Net
DESCRIPTION:
URL:http://kb2skp.com/event/grants-elmer-net/2027-07-14
LOCATION:MD
END:VEVENT
BEGIN:VEVENT
DTSTART;TZID=America/New_York:20270720T193000
DTEND;TZID=America/New_York:20270720T203000
DTSTAMP:20260420T014746
CREATED:20230227T045424Z
LAST-MODIFIED:20230227T001400Z
UID:10001013-1816111800-1816115400@kb2skp.com
SUMMARY:SMCARA Weekly Net
DESCRIPTION:
URL:http://kb2skp.com/event/smcara-weekly-net/2027-07-20
LOCATION:K3HKI – 146.640\, Lexington Park\, MD\, United States
END:VEVENT
BEGIN:VEVENT
DTSTART;TZID=America/New_York:20270721T193000
DTEND;TZID=America/New_York:20270721T203000
DTSTAMP:20260420T014746
CREATED:20230227T000922Z
LAST-MODIFIED:20230227T000922Z
UID:10000752-1816198200-1816201800@kb2skp.com
SUMMARY:Grant's Elmer Net
DESCRIPTION:
URL:http://kb2skp.com/event/grants-elmer-net/2027-07-21
LOCATION:MD
END:VEVENT
BEGIN:VEVENT
DTSTART;TZID=America/New_York:20270727T193000
DTEND;TZID=America/New_York:20270727T203000
DTSTAMP:20260420T014746
CREATED:20230227T045424Z
LAST-MODIFIED:20230227T001400Z
UID:10001014-1816716600-1816720200@kb2skp.com
SUMMARY:SMCARA Weekly Net
DESCRIPTION:
URL:http://kb2skp.com/event/smcara-weekly-net/2027-07-27
LOCATION:K3HKI – 146.640\, Lexington Park\, MD\, United States
END:VEVENT
BEGIN:VEVENT
DTSTART;TZID=America/New_York:20270728T193000
DTEND;TZID=America/New_York:20270728T203000
DTSTAMP:20260420T014746
CREATED:20230227T000922Z
LAST-MODIFIED:20230227T000922Z
UID:10000753-1816803000-1816806600@kb2skp.com
SUMMARY:Grant's Elmer Net
DESCRIPTION:
URL:http://kb2skp.com/event/grants-elmer-net/2027-07-28
LOCATION:MD
END:VEVENT
BEGIN:VEVENT
DTSTART;TZID=America/New_York:20270803T193000
DTEND;TZID=America/New_York:20270803T203000
DTSTAMP:20260420T014746
CREATED:20230227T045424Z
LAST-MODIFIED:20230227T001400Z
UID:10001015-1817321400-1817325000@kb2skp.com
SUMMARY:SMCARA Weekly Net
DESCRIPTION:
URL:http://kb2skp.com/event/smcara-weekly-net/2027-08-03
LOCATION:K3HKI – 146.640\, Lexington Park\, MD\, United States
END:VEVENT
BEGIN:VEVENT
DTSTART;TZID=America/New_York:20270804T193000
DTEND;TZID=America/New_York:20270804T203000
DTSTAMP:20260420T014746
CREATED:20230227T000922Z
LAST-MODIFIED:20230227T000922Z
UID:10000754-1817407800-1817411400@kb2skp.com
SUMMARY:Grant's Elmer Net
DESCRIPTION:
URL:http://kb2skp.com/event/grants-elmer-net/2027-08-04
LOCATION:MD
END:VEVENT
BEGIN:VEVENT
DTSTART;TZID=America/New_York:20270810T193000
DTEND;TZID=America/New_York:20270810T203000
DTSTAMP:20260420T014746
CREATED:20230227T045424Z
LAST-MODIFIED:20230227T001400Z
UID:10001016-1817926200-1817929800@kb2skp.com
SUMMARY:SMCARA Weekly Net
DESCRIPTION:
URL:http://kb2skp.com/event/smcara-weekly-net/2027-08-10
LOCATION:K3HKI – 146.640\, Lexington Park\, MD\, United States
END:VEVENT
BEGIN:VEVENT
DTSTART;TZID=America/New_York:20270811T193000
DTEND;TZID=America/New_York:20270811T203000
DTSTAMP:20260420T014746
CREATED:20230227T000922Z
LAST-MODIFIED:20230227T000922Z
UID:10000755-1818012600-1818016200@kb2skp.com
SUMMARY:Grant's Elmer Net
DESCRIPTION:
URL:http://kb2skp.com/event/grants-elmer-net/2027-08-11
LOCATION:MD
END:VEVENT
BEGIN:VEVENT
DTSTART;TZID=America/New_York:20270817T193000
DTEND;TZID=America/New_York:20270817T203000
DTSTAMP:20260420T014746
CREATED:20230227T045424Z
LAST-MODIFIED:20230227T001400Z
UID:10001017-1818531000-1818534600@kb2skp.com
SUMMARY:SMCARA Weekly Net
DESCRIPTION:
URL:http://kb2skp.com/event/smcara-weekly-net/2027-08-17
LOCATION:K3HKI – 146.640\, Lexington Park\, MD\, United States
END:VEVENT
BEGIN:VEVENT
DTSTART;TZID=America/New_York:20270818T193000
DTEND;TZID=America/New_York:20270818T203000
DTSTAMP:20260420T014746
CREATED:20230227T000922Z
LAST-MODIFIED:20230227T000922Z
UID:10000756-1818617400-1818621000@kb2skp.com
SUMMARY:Grant's Elmer Net
DESCRIPTION:
URL:http://kb2skp.com/event/grants-elmer-net/2027-08-18
LOCATION:MD
END:VEVENT
END:VCALENDAR